BEGIN:VCALENDAR
VERSION:2.0
PRODID:-//Magpies Waitara - ECPv6.15.16.1//NONSGML v1.0//EN
CALSCALE:GREGORIAN
METHOD:PUBLISH
X-ORIGINAL-URL:https://magpieswaitara.com.au
X-WR-CALDESC:Events for Magpies Waitara
REFRESH-INTERVAL;VALUE=DURATION:PT1H
X-Robots-Tag:noindex
X-PUBLISHED-TTL:PT1H
BEGIN:VTIMEZONE
TZID:UTC
BEGIN:STANDARD
TZOFFSETFROM:+0000
TZOFFSETTO:+0000
TZNAME:UTC
DTSTART:20230101T000000
END:STANDARD
END:VTIMEZONE
BEGIN:VEVENT
DTSTART;TZID=UTC:20241102T193000
DTEND;TZID=UTC:20241102T223000
DTSTAMP:20260423T131129
CREATED:20220919T014435Z
LAST-MODIFIED:20240829T035945Z
UID:1727-1730575800-1730586600@magpieswaitara.com.au
SUMMARY:CHRIS CONNOLLY
DESCRIPTION:CHRIS CONNOLLY \n7.30pm – 10.30pm
URL:https://magpieswaitara.com.au/event/chris-connolly-2/
CATEGORIES:Entertainment
END:VEVENT
BEGIN:VEVENT
DTSTART;TZID=UTC:20241105T100000
DTEND;TZID=UTC:20241105T100000
DTSTAMP:20260423T131129
CREATED:20241011T035730Z
LAST-MODIFIED:20241014T152656Z
UID:3472-1730800800-1730800800@magpieswaitara.com.au
SUMMARY:Melbourne Cup
DESCRIPTION:Join us for the race that stops the nation with great lunch specials at The Kitchen as you cheer on your favourite horse!\n\n\n \n\n\nAll the Melbourne Cup action live and loud on the big screen!\n\n\n \n\n\nBook a table today whilst seats last.
URL:https://magpieswaitara.com.au/event/melbourne-cup-3/
CATEGORIES:Special Events
ATTACH;FMTTYPE=image/jpeg:https://magpieswaitara.com.au/wp-content/uploads/2024/10/Melbourne-Cup-Magpies-TVL-Magpies-Waitara.jpg
END:VEVENT
BEGIN:VEVENT
DTSTART;TZID=UTC:20241109T200000
DTEND;TZID=UTC:20241109T232000
DTSTAMP:20260423T131129
CREATED:20230804T013636Z
LAST-MODIFIED:20240829T031409Z
UID:2492-1731182400-1731194400@magpieswaitara.com.au
SUMMARY:THE BANDITS BAND
DESCRIPTION:THE BANDITS BAND \n8:00 PM – 11:20 PM
URL:https://magpieswaitara.com.au/event/the-bandits-duo/2024-11-09/
CATEGORIES:Entertainment
END:VEVENT
BEGIN:VEVENT
DTSTART;TZID=UTC:20241116T193000
DTEND;TZID=UTC:20241116T223000
DTSTAMP:20260423T131129
CREATED:20230804T015339Z
LAST-MODIFIED:20240829T032150Z
UID:2495-1731785400-1731796200@magpieswaitara.com.au
SUMMARY:SCOTT THE ENTERTAINER
DESCRIPTION:SCOTT THE ENTERTAINER \n7.30 – 10.30pm
URL:https://magpieswaitara.com.au/event/scott-the-entertainer-8/
CATEGORIES:Entertainment
END:VEVENT
BEGIN:VEVENT
DTSTART;TZID=UTC:20241123T200000
DTEND;TZID=UTC:20241123T232000
DTSTAMP:20260423T131129
CREATED:20240206T025825Z
LAST-MODIFIED:20240829T035956Z
UID:2900-1732392000-1732404000@magpieswaitara.com.au
SUMMARY:MR JAMES BAND
DESCRIPTION:MR JAMES BAND \n8:00 PM – 11:20 PM
URL:https://magpieswaitara.com.au/event/mr-james-band/
CATEGORIES:Entertainment
END:VEVENT
BEGIN:VEVENT
DTSTART;TZID=UTC:20241124T140000
DTEND;TZID=UTC:20241124T170000
DTSTAMP:20260423T131130
CREATED:20220919T013349Z
LAST-MODIFIED:20240829T031706Z
UID:1724-1732456800-1732467600@magpieswaitara.com.au
SUMMARY:THE MOODS (Jazz)
DESCRIPTION:THE MOODS (Jazz) \n2pm – 5pm
URL:https://magpieswaitara.com.au/event/the-moods-jazz/
CATEGORIES:Entertainment
END:VEVENT
BEGIN:VEVENT
DTSTART;TZID=UTC:20241130T193000
DTEND;TZID=UTC:20241130T223000
DTSTAMP:20260423T131130
CREATED:20240326T000929Z
LAST-MODIFIED:20240829T031848Z
UID:3026-1732995000-1733005800@magpieswaitara.com.au
SUMMARY:2 LEFT FEET
DESCRIPTION:2 LEFT FEET \n7.30 pm – 10.30 pm
URL:https://magpieswaitara.com.au/event/2-left-feet/
CATEGORIES:Entertainment
END:VEVENT
BEGIN:VEVENT
DTSTART;TZID=UTC:20241207T073000
DTEND;TZID=UTC:20241207T223000
DTSTAMP:20260423T131130
CREATED:20241025T033615Z
LAST-MODIFIED:20241025T033615Z
UID:3511-1733556600-1733610600@magpieswaitara.com.au
SUMMARY:STEVE GAMBUZZA
DESCRIPTION:STEVE GAMBUZZA \n7.30 – 10.30pm
URL:https://magpieswaitara.com.au/event/steve-gambuzza-2/
CATEGORIES:Entertainment
END:VEVENT
BEGIN:VEVENT
DTSTART;TZID=UTC:20241208T140000
DTEND;TZID=UTC:20241208T140000
DTSTAMP:20260423T131130
CREATED:20240214T023032Z
LAST-MODIFIED:20241202T024105Z
UID:2942-1733666400-1733666400@magpieswaitara.com.au
SUMMARY:UFC 310
DESCRIPTION:UFC 310 feature a highly anticipated flyweight title bout where Alexandre Pantoja defends his championship against Japanese contender Kai Asakura\, who aims to make a stunning debut by capturing the title. \n\n\n \n\n\nAdditionally\, the welterweight division will see Shavkat Rakhmonov potentially facing former champion Kamaru Usman\, following Belal Muhammad’s withdrawal due to injury. \n\n\n \n\n\nCatch all the action live and loud here!
URL:https://magpieswaitara.com.au/event/ufc-310/
CATEGORIES:Live Sport
ATTACH;FMTTYPE=image/jpeg:https://magpieswaitara.com.au/wp-content/uploads/2024/02/UFC_310_Venue_800x600.jpg
END:VEVENT
BEGIN:VEVENT
DTSTART;TZID=UTC:20241208T163000
DTEND;TZID=UTC:20241208T163000
DTSTAMP:20260423T131130
CREATED:20241111T035146Z
LAST-MODIFIED:20241111T035146Z
UID:3636-1733675400-1733675400@magpieswaitara.com.au
SUMMARY:Annual Christmas Toy Raffle
DESCRIPTION:It’s almost Christmas time and that means our Annual Christmas Toy Raffle is back with over $4000 in prizes to be won! \nTickets on sale from 3:30pm\, Drawn from 4:30pm \nBring the family\, get in festive spirit and enjoy an afternoon of great raffle action. Table bookings highly recommended.
URL:https://magpieswaitara.com.au/event/annual-christmas-toy-raffle/
CATEGORIES:Special Events
ATTACH;FMTTYPE=image/jpeg:https://magpieswaitara.com.au/wp-content/uploads/2024/11/Christmas-Toy-Raffle-Facebook-Magpies-Waitara.jpg
END:VEVENT
BEGIN:VEVENT
DTSTART;TZID=UTC:20241214T073000
DTEND;TZID=UTC:20241214T223000
DTSTAMP:20260423T131130
CREATED:20241025T033723Z
LAST-MODIFIED:20241025T033723Z
UID:3512-1734161400-1734215400@magpieswaitara.com.au
SUMMARY:RON ASHTON
DESCRIPTION:RON ASHTON \n7.30 – 10.30pm
URL:https://magpieswaitara.com.au/event/ron-ashton-2/
CATEGORIES:Entertainment
END:VEVENT
BEGIN:VEVENT
DTSTART;TZID=UTC:20241215T140000
DTEND;TZID=UTC:20241215T170000
DTSTAMP:20260423T131130
CREATED:20241025T033857Z
LAST-MODIFIED:20241025T033857Z
UID:3513-1734271200-1734282000@magpieswaitara.com.au
SUMMARY:SUSSUDIO (JAZZ)
DESCRIPTION:SUSSUDIO (JAZZ) \n\n2 pm – 5 pm
URL:https://magpieswaitara.com.au/event/sussudio-jazz/
CATEGORIES:Entertainment
END:VEVENT
BEGIN:VEVENT
DTSTART;TZID=UTC:20241221T073000
DTEND;TZID=UTC:20241221T223000
DTSTAMP:20260423T131130
CREATED:20241025T033934Z
LAST-MODIFIED:20241025T033934Z
UID:3514-1734766200-1734820200@magpieswaitara.com.au
SUMMARY:2 LEFT FEET DUO
DESCRIPTION:2 LEFT FEET DUO \n7.30 – 10.30 pm
URL:https://magpieswaitara.com.au/event/2-left-feet-duo-2/
CATEGORIES:Entertainment
END:VEVENT
BEGIN:VEVENT
DTSTART;TZID=UTC:20241231T200000
DTEND;TZID=UTC:20241231T200000
DTSTAMP:20260423T131130
CREATED:20241025T034048Z
LAST-MODIFIED:20241025T034048Z
UID:3515-1735675200-1735675200@magpieswaitara.com.au
SUMMARY:VOODOO PUNCH (NYE)
DESCRIPTION:VOODOO PUNCH (NYE) \n8pm – 12.30am
URL:https://magpieswaitara.com.au/event/voodoo-punch-nye/
CATEGORIES:Entertainment
END:VEVENT
BEGIN:VEVENT
DTSTART;TZID=UTC:20241231T200000
DTEND;TZID=UTC:20241231T200000
DTSTAMP:20260423T131130
CREATED:20241111T035442Z
LAST-MODIFIED:20241111T035442Z
UID:3639-1735675200-1735675200@magpieswaitara.com.au
SUMMARY:NYE Party
DESCRIPTION:Celebrate the end of 2024 with Voodoo Punch bringing you can evening of all the greatest hits you can party into the new year with! \nGrab dinner at The Kitchen and enjoy the festivities as we count down to 2025! \nBook a table whilst seats last!
URL:https://magpieswaitara.com.au/event/nye-party-2/
CATEGORIES:Special Events
ATTACH;FMTTYPE=image/jpeg:https://magpieswaitara.com.au/wp-content/uploads/2024/11/NYE-2024-Artwork-Social-Square-Magpies-Waitara.jpg
END:VEVENT
BEGIN:VEVENT
DTSTART;TZID=UTC:20250104T073000
DTEND;TZID=UTC:20250104T223000
DTSTAMP:20260423T131130
CREATED:20241025T034415Z
LAST-MODIFIED:20241025T034415Z
UID:3516-1735975800-1736029800@magpieswaitara.com.au
SUMMARY:SCOTT THE ENTERTAINER
DESCRIPTION:SCOTT THE ENTERTAINER \n7.30 – 10.30pm
URL:https://magpieswaitara.com.au/event/scott-the-entertainer-11/
CATEGORIES:Entertainment
END:VEVENT
BEGIN:VEVENT
DTSTART;TZID=UTC:20250111T073000
DTEND;TZID=UTC:20250111T223000
DTSTAMP:20260423T131130
CREATED:20241025T034542Z
LAST-MODIFIED:20241025T034542Z
UID:3517-1736580600-1736634600@magpieswaitara.com.au
SUMMARY:BOY MEETS GIRL
DESCRIPTION:BOY MEETS GIRL \n7.30 – 10.30pm
URL:https://magpieswaitara.com.au/event/boy-meets-girl/
CATEGORIES:Entertainment
END:VEVENT
BEGIN:VEVENT
DTSTART;TZID=UTC:20250118T080000
DTEND;TZID=UTC:20250118T232000
DTSTAMP:20260423T131130
CREATED:20241025T034636Z
LAST-MODIFIED:20241025T034636Z
UID:3518-1737187200-1737242400@magpieswaitara.com.au
SUMMARY:JELLYBEAN JAM
DESCRIPTION:JELLYBEAN JAM \n8 – 11.20pm
URL:https://magpieswaitara.com.au/event/jellybean-jam-2/
CATEGORIES:Entertainment
END:VEVENT
BEGIN:VEVENT
DTSTART;TZID=UTC:20250119T140000
DTEND;TZID=UTC:20250119T140000
DTSTAMP:20260423T131130
CREATED:20241209T034035Z
LAST-MODIFIED:20241220T054222Z
UID:3680-1737295200-1737295200@magpieswaitara.com.au
SUMMARY:UFC311
DESCRIPTION:UFC kicks off 2025 with two titles up for grabs with UFC312 live & loud on the big screen from the Intuit Dome in LA. Lightweight champion Islam Makhachev defends his title against Arman Tsarukyan in a highly anticipated rematch. Their first encounter was a thrilling battle\, and both fighters are ready to leave it all in the Octagon. In the co-main event\, bantamweight champion Merab Dvalishvili faces off against the undefeated Umar Nurmagomedov\, promising another action-packed showdown. Watch all the right here!
URL:https://magpieswaitara.com.au/event/ufc311/
CATEGORIES:Live Sport,Special Events
ATTACH;FMTTYPE=image/jpeg:https://magpieswaitara.com.au/wp-content/uploads/2024/12/UFC_311_Venue_800x600.jpg
END:VEVENT
BEGIN:VEVENT
DTSTART;TZID=UTC:20250124T080000
DTEND;TZID=UTC:20250124T170000
DTSTAMP:20260423T131130
CREATED:20241220T053958Z
LAST-MODIFIED:20241220T053958Z
UID:3707-1737705600-1737738000@magpieswaitara.com.au
SUMMARY:Australia Day Long Weekend
DESCRIPTION:Celebrate the Australia Day Long Weekend with us! Join us for Meat Raffles on Friday and Sunday\, enjoy live entertainment on Saturday\, and take advantage of Coopers Members Specials all weekend long at the Members Bar. Gather your friends and family for a fantastic time filled with fun and festivities!
URL:https://magpieswaitara.com.au/event/australia-day-long-weekend-2/2025-01-24/
CATEGORIES:Special Events
ATTACH;FMTTYPE=image/jpeg:https://magpieswaitara.com.au/wp-content/uploads/2024/12/Australia-Day-Long-Weekend-Instagram-Tile-Magpies-Waitara.jpg
END:VEVENT
BEGIN:VEVENT
DTSTART;TZID=UTC:20250125T073000
DTEND;TZID=UTC:20250125T223000
DTSTAMP:20260423T131130
CREATED:20241025T034715Z
LAST-MODIFIED:20241025T034715Z
UID:3519-1737790200-1737844200@magpieswaitara.com.au
SUMMARY:JIMMY BEAR
DESCRIPTION:JIMMY BEAR \n7.30 – 10.30pm
URL:https://magpieswaitara.com.au/event/jimmy-bear-2/
CATEGORIES:Entertainment
END:VEVENT
BEGIN:VEVENT
DTSTART;TZID=UTC:20250201T073000
DTEND;TZID=UTC:20250201T223000
DTSTAMP:20260423T131130
CREATED:20241220T042202Z
LAST-MODIFIED:20241220T042202Z
UID:3696-1738395000-1738449000@magpieswaitara.com.au
SUMMARY:TAKE TWO DUO
DESCRIPTION:TAKE TWO DUO \n7.30 – 10.30pm
URL:https://magpieswaitara.com.au/event/take-two-duo/
CATEGORIES:Entertainment
END:VEVENT
BEGIN:VEVENT
DTSTART;TZID=UTC:20250208T080000
DTEND;TZID=UTC:20250208T233000
DTSTAMP:20260423T131130
CREATED:20241220T042327Z
LAST-MODIFIED:20241220T042327Z
UID:3697-1739001600-1739057400@magpieswaitara.com.au
SUMMARY:THE BANDITS
DESCRIPTION:THE BANDITS \n8 – 11.20pm
URL:https://magpieswaitara.com.au/event/the-bandits-2/
CATEGORIES:Entertainment
END:VEVENT
BEGIN:VEVENT
DTSTART;TZID=UTC:20250209T140000
DTEND;TZID=UTC:20250209T140000
DTSTAMP:20260423T131130
CREATED:20241209T034243Z
LAST-MODIFIED:20250124T043114Z
UID:3682-1739109600-1739109600@magpieswaitara.com.au
SUMMARY:UFC312
DESCRIPTION:Get ready for an electrifying fight card as UFC 312 hits the big screen at Magpies Waitara on Sunday February 9! Join us to watch all the action live and loud as the Octagon returns to Sydney with two titles on the line. Middleweight champ Dricus de Plessis headlines the card as he defends his title against former champ Sean Strickland and Weili Zhang defends the Women’s Strawweight title against Tatiana Suarez in the co-main event bout. These matchups promise to deliver and you won’t want to miss the action! Don’t miss your chance to be part of the excitement—gather your friends\, grab a drink\, and enjoy the thrill of UFC 312 here!
URL:https://magpieswaitara.com.au/event/ufc312/
CATEGORIES:Live Sport,Special Events
ATTACH;FMTTYPE=image/jpeg:https://magpieswaitara.com.au/wp-content/uploads/2025/01/UFC_312_Venue_800x600.jpg
END:VEVENT
BEGIN:VEVENT
DTSTART;VALUE=DATE:20250210
DTEND;VALUE=DATE:20250211
DTSTAMP:20260423T131130
CREATED:20250117T050114Z
LAST-MODIFIED:20250117T050114Z
UID:3741-1739145600-1739231999@magpieswaitara.com.au
SUMMARY:Super Bowl LIX
DESCRIPTION:Gear up for the biggest game of the year as it’s time for Super Bowl LIX live and loud in the Members Lounge.\n\n\nFuel your game day experience with our unbeatable specials:\n – Score a Bucket of Buds for just $25!\n – Tackle our mouthwatering food specials at The Kitchen\n\n\n \n\n\nWhether you’re a die-hard football fan or just in it for the halftime show\, make Magpies Waitara your ultimate Super Bowl destination. Bring your mates and make it a day to remember!
URL:https://magpieswaitara.com.au/event/super-bowl-lix/
CATEGORIES:Live Sport
ATTACH;FMTTYPE=image/jpeg:https://magpieswaitara.com.au/wp-content/uploads/2025/01/Super-Bowl-LIX-Social-Square-Magpies-Waitara.jpg
END:VEVENT
BEGIN:VEVENT
DTSTART;TZID=UTC:20250215T073000
DTEND;TZID=UTC:20250215T223000
DTSTAMP:20260423T131130
CREATED:20241220T042748Z
LAST-MODIFIED:20241220T042748Z
UID:3701-1739604600-1739658600@magpieswaitara.com.au
SUMMARY:SCOTT THE ENTERTAINER
DESCRIPTION:SCOTT THE ENTERTAINER \n7.30 – 10.30pm
URL:https://magpieswaitara.com.au/event/scott-the-entertainer-12/
CATEGORIES:Entertainment
END:VEVENT
BEGIN:VEVENT
DTSTART;TZID=UTC:20250222T080000
DTEND;TZID=UTC:20250222T233000
DTSTAMP:20260423T131130
CREATED:20241220T042817Z
LAST-MODIFIED:20241220T042817Z
UID:3702-1740211200-1740267000@magpieswaitara.com.au
SUMMARY:PARTY ANTHEM
DESCRIPTION:PARTY ANTHEM \n8 – 11.20pm
URL:https://magpieswaitara.com.au/event/party-anthem/
CATEGORIES:Entertainment
END:VEVENT
BEGIN:VEVENT
DTSTART;TZID=UTC:20250223T140000
DTEND;TZID=UTC:20250223T170000
DTSTAMP:20260423T131130
CREATED:20241220T042901Z
LAST-MODIFIED:20241220T042901Z
UID:3703-1740319200-1740330000@magpieswaitara.com.au
SUMMARY:ASTON MARTINIS (JAZZ)
DESCRIPTION:ASTON MARTINIS (JAZZ) \n2 – 5pm
URL:https://magpieswaitara.com.au/event/aston-martinis-jazz-2/
CATEGORIES:Entertainment
END:VEVENT
BEGIN:VEVENT
DTSTART;TZID=UTC:20250301T073000
DTEND;TZID=UTC:20250301T223000
DTSTAMP:20260423T131130
CREATED:20241220T042927Z
LAST-MODIFIED:20241220T042927Z
UID:3704-1740814200-1740868200@magpieswaitara.com.au
SUMMARY:TWO'S COMPANY
DESCRIPTION:TWO’S COMPANY \n7.30 – 10.30pm
URL:https://magpieswaitara.com.au/event/twos-company/
CATEGORIES:Entertainment
END:VEVENT
BEGIN:VEVENT
DTSTART;VALUE=DATE:20250302
DTEND;VALUE=DATE:20250303
DTSTAMP:20260423T131130
CREATED:20250117T050222Z
LAST-MODIFIED:20250122T072107Z
UID:3743-1740873600-1740959999@magpieswaitara.com.au
SUMMARY:NRL Season Opener
DESCRIPTION:Get ready for an epic start to the 2025 NRL season in Vegas as we bring you all the action LIVE and LOUD on the big screen in the Members Lounge. \n\n\n \n\n\nJoin us for a thrilling day of rugby league action straight from the entertainment capital of the world.\n\n\n \n\n\nThree massive games lined up\n\n\n11am – Canberra Raiders vs New Zealand Warriors \n1pm  – Women’s Test Match – Australia vs England \n3.30pm – Penrith Panthers vs Cronulla Sharks\n\n\n \n\n\nExperience the electric atmosphere of Allegiant Stadium right here.
URL:https://magpieswaitara.com.au/event/nrl-season-opener/
CATEGORIES:Live Sport
ATTACH;FMTTYPE=image/jpeg:https://magpieswaitara.com.au/wp-content/uploads/2025/01/NRL-Las-Vegas-Social-Sqare-Magpies-Waitara.jpg
END:VEVENT
END:VCALENDAR