BEGIN:VCALENDAR
VERSION:2.0
PRODID:-//Magpies Waitara - ECPv6.15.16.1//NONSGML v1.0//EN
CALSCALE:GREGORIAN
METHOD:PUBLISH
X-ORIGINAL-URL:https://magpieswaitara.com.au
X-WR-CALDESC:Events for Magpies Waitara
REFRESH-INTERVAL;VALUE=DURATION:PT1H
X-Robots-Tag:noindex
X-PUBLISHED-TTL:PT1H
BEGIN:VTIMEZONE
TZID:UTC
BEGIN:STANDARD
TZOFFSETFROM:+0000
TZOFFSETTO:+0000
TZNAME:UTC
DTSTART:20250101T000000
END:STANDARD
END:VTIMEZONE
BEGIN:VEVENT
DTSTART;TZID=UTC:20260328T200000
DTEND;TZID=UTC:20260328T200000
DTSTAMP:20260423T161623
CREATED:20260107T025252Z
LAST-MODIFIED:20260108T032202Z
UID:4742-1774728000-1774728000@magpieswaitara.com.au
SUMMARY:Ultimate 70's Tribute - ROCK vs DISCO
DESCRIPTION:Magpies Waitara presents the Ultimate 70’s Tribute!\n\n\n \n\n\n“Rock vs Disco”.\n\n\n \n\n\nExperience 2 amazing bands facing off against each other\, and you get to decide if Rock or Disco reigns supreme. This is a fancy dress event\, so will your Costume reflect your love for Rock or Disco or BOTH?!\n\n\n \n\n\nLimited tickets available\, so get a group of friends together asap and let’s rock and roll all night and party everyday!\n\n\n \n\n\nNote – Strictly over 18 years only\n\n \n\nBUY TICKETS HERE
URL:https://magpieswaitara.com.au/event/ultimate-70s-tribute-rock-vs-disco/
CATEGORIES:Special Events
ATTACH;FMTTYPE=image/jpeg:https://magpieswaitara.com.au/wp-content/uploads/2026/01/March_28_Rock_V_Disco_-_TVL_-_Magpies_Waitara.jpg
END:VEVENT
BEGIN:VEVENT
DTSTART;TZID=UTC:20260328T200000
DTEND;TZID=UTC:20260328T232000
DTSTAMP:20260423T161623
CREATED:20251112T015816Z
LAST-MODIFIED:20251112T015816Z
UID:4574-1774728000-1774740000@magpieswaitara.com.au
SUMMARY:DISCO V ROCK 
DESCRIPTION:DISCO V ROCK \n\n8 to 11.20pm
URL:https://magpieswaitara.com.au/event/disco-v-rock/
CATEGORIES:Entertainment
END:VEVENT
BEGIN:VEVENT
DTSTART;TZID=UTC:20260403T110000
DTEND;TZID=UTC:20260403T110000
DTSTAMP:20260423T161623
CREATED:20260320T023820Z
LAST-MODIFIED:20260320T024734Z
UID:4921-1775214000-1775214000@magpieswaitara.com.au
SUMMARY:Good Friday Mega Raffle
DESCRIPTION:Celebrate Good Friday at Magpies Waitara with our annual MEGA Raffle. Over $5K in prizes to be won!\n​\nJoin us on Friday 3rd April\, with tickets on sale from 11am in the Members Lounge and the raffle drawn from 1pm.\nMembers Ticket Deal – Buy $10\, get $10 worth free.\n​\nEnjoy delicious lunch seafood specials from The Kitchen – Seafood Mixed Grill\, 1/2 Cuban Lobster Mornay\, Grilled Tuna Steak\, Prawn Arrabbiata\, Smoked Salmon & Avo Stack\, Seafood Basket\, Cripsy Whiting Fillets and Prawn & Oyster Plates.\n​\nYou can also treat yourself to great Seafood dishes from Lucky Magpie Asian Cuisine as you relax and enjoy the Good Friday vibes.
URL:https://magpieswaitara.com.au/event/good-friday-mega-raffle-5/
CATEGORIES:Special Events
ATTACH;FMTTYPE=image/jpeg:https://magpieswaitara.com.au/wp-content/uploads/2026/03/Good_Friday_Mega_Raffle_2026_-_TVL_-_Magpies_Waitara_V2.jpg
END:VEVENT
BEGIN:VEVENT
DTSTART;TZID=UTC:20260404T193000
DTEND;TZID=UTC:20260404T223000
DTSTAMP:20260423T161623
CREATED:20260224T021853Z
LAST-MODIFIED:20260224T021853Z
UID:4839-1775331000-1775341800@magpieswaitara.com.au
SUMMARY:2 LEFT FEET
DESCRIPTION:2 LEFT FEET \n\n7.30 – 10.30pm
URL:https://magpieswaitara.com.au/event/2-left-feet-3/
CATEGORIES:Entertainment
END:VEVENT
BEGIN:VEVENT
DTSTART;TZID=UTC:20260408T110000
DTEND;TZID=UTC:20260408T110000
DTSTAMP:20260423T161623
CREATED:20260320T024117Z
LAST-MODIFIED:20260320T024621Z
UID:4922-1775646000-1775646000@magpieswaitara.com.au
SUMMARY:K-Pop Disco - Messy Makers April School Holidays Fun
DESCRIPTION:🎤 Get ready to dance\, sing\, and shine at our K-Pop Disco! Join Messy Makers for an hour of high-energy fun filled with sing-alongs\, epic dance-offs\, and exciting games with prizes to be won. Show off your best moves\, rock your favourite K-pop merch\, and party with friends in this unforgettable disco experience. Perfect for all ages! \n🎟️ Tickets: $10 + booking fee \nSecure your spot now:\n👉 https://www.stickytickets.com.au/kqylvj \nEnjoy lunch afterwards at The Kitchen with kids meals available.
URL:https://magpieswaitara.com.au/event/k-pop-disco-messy-makers-april-school-holidays-fun/
CATEGORIES:Kids Entertainment
ATTACH;FMTTYPE=image/png:https://magpieswaitara.com.au/wp-content/uploads/2026/03/K_Pop_Disco-1.png
END:VEVENT
BEGIN:VEVENT
DTSTART;TZID=UTC:20260411T200000
DTEND;TZID=UTC:20260411T232000
DTSTAMP:20260423T161623
CREATED:20260224T022027Z
LAST-MODIFIED:20260226T050250Z
UID:4840-1775937600-1775949600@magpieswaitara.com.au
SUMMARY:JELLYBEAN JAM
DESCRIPTION:JELLYBEAN JAM \n\n8 – 11.20pm
URL:https://magpieswaitara.com.au/event/sjellybean-jam/
CATEGORIES:Entertainment
END:VEVENT
BEGIN:VEVENT
DTSTART;TZID=UTC:20260415T110000
DTEND;TZID=UTC:20260415T110000
DTSTAMP:20260423T161623
CREATED:20260320T024541Z
LAST-MODIFIED:20260320T030811Z
UID:4923-1776250800-1776250800@magpieswaitara.com.au
SUMMARY:Messy Chef - April School Holidays Fun
DESCRIPTION:🍪 Roll up your sleeves for a deliciously messy morning with Messy Makers! Designed for children aged 4 years and up\, this hands-on workshop lets kids create their own bliss balls and decorate tasty biscuits to take home and enjoy. It’s the perfect mix of creativity\, fun\, and yummy treats—no baking experience needed! \n🎟️ Tickets $20 + booking fee\nBUY TICKETS 👉 https://www.stickytickets.com.au/c3bnd9 \n🍽️ Enjoy lunch afterwards at The Kitchen with kids meals available.
URL:https://magpieswaitara.com.au/event/messy-chef-april-school-holidays-fun/
CATEGORIES:Kids Entertainment
ATTACH;FMTTYPE=image/png:https://magpieswaitara.com.au/wp-content/uploads/2026/03/Messy_Chef_Image-1.png
END:VEVENT
BEGIN:VEVENT
DTSTART;TZID=UTC:20260418T193000
DTEND;TZID=UTC:20260418T223000
DTSTAMP:20260423T161623
CREATED:20260224T022133Z
LAST-MODIFIED:20260224T022133Z
UID:4841-1776540600-1776551400@magpieswaitara.com.au
SUMMARY:FLAVA DUO
DESCRIPTION:FLAVA DUO\n\n 7.30 – 10.30pm
URL:https://magpieswaitara.com.au/event/flava-duo-3/
CATEGORIES:Entertainment
END:VEVENT
BEGIN:VEVENT
DTSTART;VALUE=DATE:20260425
DTEND;VALUE=DATE:20260428
DTSTAMP:20260423T161623
CREATED:20250324T044717Z
LAST-MODIFIED:20260410T050330Z
UID:3892-1777075200-1777334399@magpieswaitara.com.au
SUMMARY:Anzac Day Long Weekend
DESCRIPTION:This ANZAC Day long weekend\, take a moment to remember — and come together. \nJoin us from Saturday 25 to Monday 27 April for a weekend of footy\, live music\, and great company. Catch all the NRL action\, enjoy live performances\, and soak up the atmosphere.
URL:https://magpieswaitara.com.au/event/anzac-day-2/
CATEGORIES:Special Events
ATTACH;FMTTYPE=image/jpeg:https://magpieswaitara.com.au/wp-content/uploads/2025/03/Anzac_Day_2026_-_Instagram_-_Magpies_Waitara.jpg
END:VEVENT
BEGIN:VEVENT
DTSTART;TZID=UTC:20260425T193000
DTEND;TZID=UTC:20260425T223000
DTSTAMP:20260423T161623
CREATED:20260224T022242Z
LAST-MODIFIED:20260224T022242Z
UID:4842-1777145400-1777156200@magpieswaitara.com.au
SUMMARY:SCOTT THE ENTERTAINER
DESCRIPTION:SCOTT THE ENTERTAINER \n\n7.30 to 10.30pm
URL:https://magpieswaitara.com.au/event/scott-the-entertainer-21/
CATEGORIES:Entertainment
END:VEVENT
BEGIN:VEVENT
DTSTART;TZID=UTC:20260426T140000
DTEND;TZID=UTC:20260426T170000
DTSTAMP:20260423T161623
CREATED:20260224T022325Z
LAST-MODIFIED:20260224T022325Z
UID:4843-1777212000-1777222800@magpieswaitara.com.au
SUMMARY:GEOFF POWER JAZZ BAND
DESCRIPTION:GEOFF POWER JAZZ BAND \n\n2 – 5pm
URL:https://magpieswaitara.com.au/event/geoff-power-jazz-band-3/
CATEGORIES:Entertainment
END:VEVENT
BEGIN:VEVENT
DTSTART;TZID=UTC:20260502T193000
DTEND;TZID=UTC:20260502T223000
DTSTAMP:20260423T161623
CREATED:20260224T022909Z
LAST-MODIFIED:20260224T022909Z
UID:4844-1777750200-1777761000@magpieswaitara.com.au
SUMMARY:SCOTT THE ENTERTAINER
DESCRIPTION:SCOTT THE ENTERTAINER \n\n7.30 – 10.30pm
URL:https://magpieswaitara.com.au/event/scott-the-entertainer-22/
CATEGORIES:Entertainment
END:VEVENT
BEGIN:VEVENT
DTSTART;TZID=UTC:20260509T200000
DTEND;TZID=UTC:20260509T222000
DTSTAMP:20260423T161623
CREATED:20260224T023004Z
LAST-MODIFIED:20260224T023004Z
UID:4845-1778356800-1778365200@magpieswaitara.com.au
SUMMARY:JACKS AVENUE
DESCRIPTION:JACKS AVENUE \n\n8 – 11.20pm
URL:https://magpieswaitara.com.au/event/jacks-avenue-4/
CATEGORIES:Entertainment
END:VEVENT
BEGIN:VEVENT
DTSTART;TZID=UTC:20260510T110000
DTEND;TZID=UTC:20260510T110000
DTSTAMP:20260423T161623
CREATED:20260323T032006Z
LAST-MODIFIED:20260422T060219Z
UID:4934-1778410800-1778410800@magpieswaitara.com.au
SUMMARY:UFC 328
DESCRIPTION:UFC 328 delivers a stacked night of elite MMA action\, headlined by a middleweight championship clash between Khamzat Chimaev and Sean Strickland. The co-main event adds even more gold to the line\, as flyweight champion Joshua Van defends his title against rising contender Tatsuro Taira. \nTaking place at the Prudential Center in Newark\, the card features a mix of championship bouts\, top contenders\, and rising stars\, all competing on one of the UFC’s biggest stages. With two titles on the line and high-stakes matchups throughout\, UFC 328 promises explosive action\, intense rivalries\, and unforgettable moments for fight fans. \nCatch all the action LIVE and LOUD on the big screen!
URL:https://magpieswaitara.com.au/event/ufc-328/
CATEGORIES:Live Sport
ATTACH;FMTTYPE=image/jpeg:https://magpieswaitara.com.au/wp-content/uploads/2026/03/UFC_328_Venue_1920x1080-1.jpg
END:VEVENT
BEGIN:VEVENT
DTSTART;TZID=UTC:20260510T120000
DTEND;TZID=UTC:20260510T120000
DTSTAMP:20260423T161623
CREATED:20260415T022450Z
LAST-MODIFIED:20260415T022450Z
UID:4950-1778414400-1778414400@magpieswaitara.com.au
SUMMARY:Mother's Day Raffle
DESCRIPTION:💖 Treat Mum this Mother’s Day! 💖 \nMake it a day she’ll truly love with delicious lunch or dinner\, beautiful moments\, and a chance to WIN big! 🎉 \n📅 Sunday 10 May\n🍽 Lunch: 11:30AM–2:30PM | Dinner: 5PM–9PM\n🎟 Mother’s Day Raffle – over $1000 in prizes!\nTickets on sale from 12pm\, Drawn from 1:30pm \nBring the family\, share the love\, and celebrate Mum in style 💐
URL:https://magpieswaitara.com.au/event/mothers-day-raffle/
CATEGORIES:Special Events
ATTACH;FMTTYPE=image/jpeg:https://magpieswaitara.com.au/wp-content/uploads/2026/04/Mother_s_Day_2026_-_TVL_-_Magpies_Waitara.jpg
END:VEVENT
BEGIN:VEVENT
DTSTART;TZID=UTC:20260516T080000
DTEND;TZID=UTC:20260516T170000
DTSTAMP:20260423T161623
CREATED:20260224T023041Z
LAST-MODIFIED:20260224T023041Z
UID:4846-1778918400-1778950800@magpieswaitara.com.au
SUMMARY:BOY MEETS GIRL
DESCRIPTION:BOY MEETS GIRL \n\n7.30 – 10.30pm
URL:https://magpieswaitara.com.au/event/boy-meets-girl-2/
CATEGORIES:Entertainment
END:VEVENT
BEGIN:VEVENT
DTSTART;TZID=UTC:20260523T200000
DTEND;TZID=UTC:20260523T232000
DTSTAMP:20260423T161623
CREATED:20260224T023134Z
LAST-MODIFIED:20260224T023134Z
UID:4847-1779566400-1779578400@magpieswaitara.com.au
SUMMARY:THE BANDITS
DESCRIPTION:THE BANDITS \n\n8 – 11.20pm
URL:https://magpieswaitara.com.au/event/the-bandits-4/
CATEGORIES:Entertainment
END:VEVENT
BEGIN:VEVENT
DTSTART;TZID=UTC:20260524T140000
DTEND;TZID=UTC:20260524T170000
DTSTAMP:20260423T161623
CREATED:20260224T023451Z
LAST-MODIFIED:20260224T023451Z
UID:4848-1779631200-1779642000@magpieswaitara.com.au
SUMMARY:BRIDGE CITY JAZZ BAND
DESCRIPTION:BRIDGE CITY JAZZ BAND \n\n2 – 5pm
URL:https://magpieswaitara.com.au/event/bridge-city-jazz-band/
CATEGORIES:Entertainment
END:VEVENT
BEGIN:VEVENT
DTSTART;TZID=UTC:20260527T200000
DTEND;TZID=UTC:20260527T200000
DTSTAMP:20260423T161623
CREATED:20260416T023915Z
LAST-MODIFIED:20260416T024326Z
UID:4978-1779912000-1779912000@magpieswaitara.com.au
SUMMARY:State of Origin Game 1
DESCRIPTION:The rivalry is back… and it’s bigger than ever. 💥\nCatch every moment of State of Origin Game 1 LIVE and LOUD on the big screen! \n🏉 NSW vs QLD\n🎁 Win a NSW jersey every game\n🍻 Discounted drinks\n🍟 Free nibbles at half time \n📍 27 May – Sydney\n⏰ Kick-off 8PM \nGrab your crew\, wear your colours\, and get ready for an unforgettable night. Who are you backing? 💙❤️
URL:https://magpieswaitara.com.au/event/state-of-origin-game-1/
CATEGORIES:Live Sport
ATTACH;FMTTYPE=image/jpeg:https://magpieswaitara.com.au/wp-content/uploads/2026/04/SOO_May_27_TV_LS-1.jpg
END:VEVENT
BEGIN:VEVENT
DTSTART;TZID=UTC:20260530T193000
DTEND;TZID=UTC:20260530T223000
DTSTAMP:20260423T161623
CREATED:20260224T023348Z
LAST-MODIFIED:20260325T012536Z
UID:4849-1780169400-1780180200@magpieswaitara.com.au
SUMMARY:FORREST
DESCRIPTION:FORREST\n\n7.30 to 10.30pm
URL:https://magpieswaitara.com.au/event/forest-park/
CATEGORIES:Entertainment
END:VEVENT
BEGIN:VEVENT
DTSTART;TZID=UTC:20260606T193000
DTEND;TZID=UTC:20260606T223000
DTSTAMP:20260423T161623
CREATED:20260224T023618Z
LAST-MODIFIED:20260224T023618Z
UID:4850-1780774200-1780785000@magpieswaitara.com.au
SUMMARY:SCOTT THE ENTERTAINER
DESCRIPTION:SCOTT THE ENTERTAINER \n\n7.30 – 10.30pm
URL:https://magpieswaitara.com.au/event/scott-the-entertainer-23/
CATEGORIES:Entertainment
END:VEVENT
BEGIN:VEVENT
DTSTART;TZID=UTC:20260613T193000
DTEND;TZID=UTC:20260613T223000
DTSTAMP:20260423T161623
CREATED:20260224T023702Z
LAST-MODIFIED:20260226T030646Z
UID:4851-1781379000-1781389800@magpieswaitara.com.au
SUMMARY:ED MANEGO
DESCRIPTION:ED MANEGO\n\n\n\n7.30 – 10.30pm
URL:https://magpieswaitara.com.au/event/ed-manego-5/
CATEGORIES:Entertainment
END:VEVENT
BEGIN:VEVENT
DTSTART;TZID=UTC:20260617T200000
DTEND;TZID=UTC:20260617T200000
DTSTAMP:20260423T161623
CREATED:20250514T030921Z
LAST-MODIFIED:20260416T024340Z
UID:4053-1781726400-1781726400@magpieswaitara.com.au
SUMMARY:State of Origin - Game 2
DESCRIPTION:Game 2. No holding back. 💥\nThis is where legends are made and rivalries hit boiling point. One team takes control of the series… the other fights to stay alive. \n🎁 Win a NSW jersey every game\n🍻 Discounted drinks\n🍟 Free nibbles at half time \n📍 17 June – Melbourne\n⏰ Kick-off 8PM
URL:https://magpieswaitara.com.au/event/state-of-origin-game-2-2/
CATEGORIES:Live Sport
ATTACH;FMTTYPE=image/jpeg:https://magpieswaitara.com.au/wp-content/uploads/2026/04/SOO_June_17_TV_LS-1.jpg
END:VEVENT
BEGIN:VEVENT
DTSTART;TZID=UTC:20260620T193000
DTEND;TZID=UTC:20260620T223000
DTSTAMP:20260423T161623
CREATED:20260224T023745Z
LAST-MODIFIED:20260224T023745Z
UID:4852-1781983800-1781994600@magpieswaitara.com.au
SUMMARY:STEVE GAMBOOZA
DESCRIPTION:STEVE GAMBOOZA \n\n7.30 to 10.30pm
URL:https://magpieswaitara.com.au/event/steve-gambooza-3/
CATEGORIES:Entertainment
END:VEVENT
BEGIN:VEVENT
DTSTART;TZID=UTC:20260627T200000
DTEND;TZID=UTC:20260627T232000
DTSTAMP:20260423T161623
CREATED:20260224T023836Z
LAST-MODIFIED:20260224T023836Z
UID:4853-1782590400-1782602400@magpieswaitara.com.au
SUMMARY:VOODOO PUNCH
DESCRIPTION:VOODOO PUNCH \n\n8 – 11.20pm
URL:https://magpieswaitara.com.au/event/voodoo-punch-3/
CATEGORIES:Entertainment
END:VEVENT
BEGIN:VEVENT
DTSTART;TZID=UTC:20260628T140000
DTEND;TZID=UTC:20260628T170000
DTSTAMP:20260423T161623
CREATED:20260224T023921Z
LAST-MODIFIED:20260224T023921Z
UID:4854-1782655200-1782666000@magpieswaitara.com.au
SUMMARY:THE ASTON MARTINIS (JAZZ)
DESCRIPTION:THE ASTON MARTINIS (JAZZ) \n\n2 – 5pm
URL:https://magpieswaitara.com.au/event/the-aston-martinis-jazz-2/
CATEGORIES:Entertainment
END:VEVENT
BEGIN:VEVENT
DTSTART;TZID=UTC:20260708T200000
DTEND;TZID=UTC:20260708T200000
DTSTAMP:20260423T161623
CREATED:20250514T031031Z
LAST-MODIFIED:20260416T024214Z
UID:4055-1783540800-1783540800@magpieswaitara.com.au
SUMMARY:State of Origin - Game 3
DESCRIPTION:It all comes down to this!\nOne last game. One final shot. No guarantees — just 80 minutes to decide everything. \n🎁 Win a NSW jersey every game\n🍻 Discounted drinks\n🍟 Free nibbles at half time \n📍 8 July – Brisbane\n⏰ Kick-off 8PM
URL:https://magpieswaitara.com.au/event/state-of-origin-game-3-2/
CATEGORIES:Live Sport
ATTACH;FMTTYPE=image/jpeg:https://magpieswaitara.com.au/wp-content/uploads/2026/04/SOO_July_8_TV_LS-1.jpg
END:VEVENT
END:VCALENDAR