BEGIN:VCALENDAR
VERSION:2.0
PRODID:-//Magpies Waitara - ECPv6.15.16.1//NONSGML v1.0//EN
CALSCALE:GREGORIAN
METHOD:PUBLISH
X-WR-CALNAME:Magpies Waitara
X-ORIGINAL-URL:https://magpieswaitara.com.au
X-WR-CALDESC:Events for Magpies Waitara
REFRESH-INTERVAL;VALUE=DURATION:PT1H
X-Robots-Tag:noindex
X-PUBLISHED-TTL:PT1H
BEGIN:VTIMEZONE
TZID:UTC
BEGIN:STANDARD
TZOFFSETFROM:+0000
TZOFFSETTO:+0000
TZNAME:UTC
DTSTART:20250101T000000
END:STANDARD
END:VTIMEZONE
BEGIN:VEVENT
DTSTART;VALUE=DATE:20260124
DTEND;VALUE=DATE:20260127
DTSTAMP:20260423T143854
CREATED:20251212T032847Z
LAST-MODIFIED:20251212T032940Z
UID:4621-1769212800-1769471999@magpieswaitara.com.au
SUMMARY:Australia Day Long Weekend
DESCRIPTION:Get ready for a laid-back\, lively Australia Day long weekend at Magpies Waitara! \nKick things off with $7 Hahn Super Dry schooners in the Members Bar\, jump into the weekend raffles\, and settle in for a Saturday night performance by Jimmy Bear. \nFrom Friday 23 to Monday 26 January\, come along for good drinks\, good vibes\, and a whole lot of Aussie weekend fun. \n Friday Lunch Raffles: Tickets on sale 12pm\, Drawn 1pm  \nFriday Dinner Raffles: Tickets on sale 6pm\, Drawn 7pm  \nSunday Raffles: Tickets on sale 5pm\, Drawn 6pm
URL:https://magpieswaitara.com.au/event/australia-day-long-weekend-3/
CATEGORIES:Special Events
ATTACH;FMTTYPE=image/jpeg:https://magpieswaitara.com.au/wp-content/uploads/2025/12/2026_Australia_Day_-_TVL_-_Magpies_Waitara_V2.jpg
END:VEVENT
BEGIN:VEVENT
DTSTART;TZID=UTC:20260124T193000
DTEND;TZID=UTC:20260124T223000
DTSTAMP:20260423T143854
CREATED:20251112T014622Z
LAST-MODIFIED:20251112T014622Z
UID:4563-1769283000-1769293800@magpieswaitara.com.au
SUMMARY:JIMMY BEAR
DESCRIPTION:JIMMY BEAR \n\n7.30 to 10.30pm
URL:https://magpieswaitara.com.au/event/jimmy-bear-6/
CATEGORIES:Entertainment
END:VEVENT
BEGIN:VEVENT
DTSTART;TZID=UTC:20260125T130000
DTEND;TZID=UTC:20260125T130000
DTSTAMP:20260423T143854
CREATED:20260107T025558Z
LAST-MODIFIED:20260107T025558Z
UID:4744-1769346000-1769346000@magpieswaitara.com.au
SUMMARY:UFC 324
DESCRIPTION:
URL:https://magpieswaitara.com.au/event/ufc-324/
CATEGORIES:Live Sport
ATTACH;FMTTYPE=image/jpeg:https://magpieswaitara.com.au/wp-content/uploads/2026/01/UFC_324_Venue_1920x1080-1.jpg
END:VEVENT
BEGIN:VEVENT
DTSTART;TZID=UTC:20260131T200000
DTEND;TZID=UTC:20260131T232000
DTSTAMP:20260423T143854
CREATED:20251112T014536Z
LAST-MODIFIED:20251112T014536Z
UID:4564-1769889600-1769901600@magpieswaitara.com.au
SUMMARY:JELLY BEAN JAM
DESCRIPTION:JELLY BEAN JAM\n\n\n8 to 11.20pm
URL:https://magpieswaitara.com.au/event/jelly-bean-jam-3/
CATEGORIES:Entertainment
END:VEVENT
BEGIN:VEVENT
DTSTART;TZID=UTC:20260201T130000
DTEND;TZID=UTC:20260201T130000
DTSTAMP:20260423T143854
CREATED:20251015T015648Z
LAST-MODIFIED:20260108T050250Z
UID:4491-1769950800-1769950800@magpieswaitara.com.au
SUMMARY:UFC 325
DESCRIPTION:UFC 325 lights up Sydney as Alexander Volkanovski puts his featherweight crown on the line in a must-see rematch against Diego Lopes. \n\n\n \n\n\nElite skill\, raw power\, and championship stakes collide in a night of nonstop action. \n\n \nLive and loud on the big screen!
URL:https://magpieswaitara.com.au/event/ufc-325/
CATEGORIES:Live Sport
ATTACH;FMTTYPE=image/jpeg:https://magpieswaitara.com.au/wp-content/uploads/2025/10/UFC_325_Venue_1920x1080-1.jpg
END:VEVENT
BEGIN:VEVENT
DTSTART;TZID=UTC:20260206T183000
DTEND;TZID=UTC:20260206T183000
DTSTAMP:20260423T143854
CREATED:20221010T000637Z
LAST-MODIFIED:20251222T001154Z
UID:1761-1770402600-1770402600@magpieswaitara.com.au
SUMMARY:Pool Competition
DESCRIPTION:Come try your hand at our Pool Competition\, all skill levels are welcome. \n$5 entry fee \nRegistration from 6:30pm to 7pm \nCompetition Starts 7:30pm* \nBar opens 6:30pm \n*Depending on entries\, singles or doubles competition will be determined on the night
URL:https://magpieswaitara.com.au/event/pool-competition/2026-02-06/
CATEGORIES:Weekly Events
ATTACH;FMTTYPE=image/jpeg:https://magpieswaitara.com.au/wp-content/uploads/2022/10/WAITARA_PoolCompFridays_TV-LS.jpg
END:VEVENT
BEGIN:VEVENT
DTSTART;TZID=UTC:20260206T200000
DTEND;TZID=UTC:20260206T200000
DTSTAMP:20260423T143854
CREATED:20230707T062657Z
LAST-MODIFIED:20251222T001537Z
UID:2327-1770408000-1770408000@magpieswaitara.com.au
SUMMARY:Karaoke Fridays
DESCRIPTION:Join us every Friday from 8pm for a night of fun at Karaoke! \n\n\nWhether you’re a seasoned performer or just looking to have a good time\, our karaoke night is the perfect opportunity to showcase your talent and enjoy the company of friends. It’s the ultimate way to kick off the weekend!\n\n\n \n\n\nDon’t miss out on the chance to sing your heart out and make unforgettable memories and win some great prizes at the same time!
URL:https://magpieswaitara.com.au/event/karaoke-friday/2026-02-06/
CATEGORIES:Weekly Events
ATTACH;FMTTYPE=image/jpeg:https://magpieswaitara.com.au/wp-content/uploads/2023/07/Karaoke-2024-TVLS.jpg
END:VEVENT
BEGIN:VEVENT
DTSTART;TZID=UTC:20260207T193000
DTEND;TZID=UTC:20260207T223000
DTSTAMP:20260423T143854
CREATED:20251112T014839Z
LAST-MODIFIED:20251112T014839Z
UID:4565-1770492600-1770503400@magpieswaitara.com.au
SUMMARY:SCOTT THE ENTERTAINER
DESCRIPTION:SCOTT THE ENTERTAINER \n\n7.30 to 10.30pm
URL:https://magpieswaitara.com.au/event/scott-the-entertainer-20/
CATEGORIES:Entertainment
END:VEVENT
BEGIN:VEVENT
DTSTART;TZID=UTC:20260209T100000
DTEND;TZID=UTC:20260209T100000
DTSTAMP:20260423T143854
CREATED:20260115T033023Z
LAST-MODIFIED:20260115T033023Z
UID:4763-1770631200-1770631200@magpieswaitara.com.au
SUMMARY:Super Bowl LX
DESCRIPTION:The biggest game of the year hits the screen Monday 9 February with Super Bowl LX — live\, loud\, and unmissable. Expect bone-crunching tackles\, iconic halftime vibes\, and every heart-stopping play as it happens. \nRally the crew\, grab a seat early\, and get ready for a full-throttle Monday you won’t forget. \nWho are you backing to take it all?
URL:https://magpieswaitara.com.au/event/super-bowl-lx/
CATEGORIES:Live Sport
ATTACH;FMTTYPE=image/jpeg:https://magpieswaitara.com.au/wp-content/uploads/2026/01/Superbowl_-_TVL_-_Magpies_V2.jpg
END:VEVENT
BEGIN:VEVENT
DTSTART;TZID=UTC:20260213T190000
DTEND;TZID=UTC:20260213T190000
DTSTAMP:20260423T143854
CREATED:20260115T032910Z
LAST-MODIFIED:20260115T032910Z
UID:4761-1771009200-1771009200@magpieswaitara.com.au
SUMMARY:Game of Thrones Trivia
DESCRIPTION:Winter is Coming… to Trivia Night! \nDo you know your Starks from your Lannisters? Your dragons from your direwolves? Then gather your bannermen (or small council) and claim the Iron Throne at Game of Thrones Trivia Night! \nWhether you bend the knee or play the game to win\, one thing is certain—when you play trivia\, you win or you learn. \nGrab your trivia squad and prepare for battle.\nThe night is dark and full of questions.
URL:https://magpieswaitara.com.au/event/game-of-thrones-trivia/
CATEGORIES:Special Events
ATTACH;FMTTYPE=image/jpeg:https://magpieswaitara.com.au/wp-content/uploads/2026/01/MPW2607_TV-1-scaled.jpg
END:VEVENT
BEGIN:VEVENT
DTSTART;TZID=UTC:20260214T200000
DTEND;TZID=UTC:20260214T232000
DTSTAMP:20260423T143854
CREATED:20251112T014923Z
LAST-MODIFIED:20251112T014923Z
UID:4566-1771099200-1771111200@magpieswaitara.com.au
SUMMARY:GROOVE ICONS
DESCRIPTION:GROOVE ICONS \n\n8pm to 11.20pm
URL:https://magpieswaitara.com.au/event/groove-icons-2/
CATEGORIES:Entertainment
END:VEVENT
BEGIN:VEVENT
DTSTART;TZID=UTC:20260221T193000
DTEND;TZID=UTC:20260221T223000
DTSTAMP:20260423T143854
CREATED:20251112T015024Z
LAST-MODIFIED:20251112T015024Z
UID:4567-1771702200-1771713000@magpieswaitara.com.au
SUMMARY:BOY MEETS GIRL DUO
DESCRIPTION:BOY MEETS GIRL DUO \n\n7.30 to 10.30pm
URL:https://magpieswaitara.com.au/event/boy-meets-girl-duo-2/
CATEGORIES:Entertainment
END:VEVENT
BEGIN:VEVENT
DTSTART;TZID=UTC:20260222T140000
DTEND;TZID=UTC:20260222T170000
DTSTAMP:20260423T143854
CREATED:20251112T015101Z
LAST-MODIFIED:20251112T015101Z
UID:4568-1771768800-1771779600@magpieswaitara.com.au
SUMMARY:THE BELLHOPS (JAZZ)
DESCRIPTION:THE BELLHOPS (JAZZ) \n\n2 to 5pm
URL:https://magpieswaitara.com.au/event/the-bellhops-jazz-4/
CATEGORIES:Entertainment
END:VEVENT
BEGIN:VEVENT
DTSTART;TZID=UTC:20260228T200000
DTEND;TZID=UTC:20260228T232000
DTSTAMP:20260423T143854
CREATED:20251112T015155Z
LAST-MODIFIED:20260114T045430Z
UID:4569-1772308800-1772320800@magpieswaitara.com.au
SUMMARY:CELEBRATION MIX
DESCRIPTION:CELEBRATION MIX\n\n8 to 11.20pm
URL:https://magpieswaitara.com.au/event/celebration-mix-4/
CATEGORIES:Entertainment
END:VEVENT
BEGIN:VEVENT
DTSTART;TZID=UTC:20260301T110000
DTEND;TZID=UTC:20260301T110000
DTSTAMP:20260423T143854
CREATED:20260123T015236Z
LAST-MODIFIED:20260123T015236Z
UID:4776-1772362800-1772362800@magpieswaitara.com.au
SUMMARY:NRL Season Opener - Las Vegas
DESCRIPTION:Get ready for an unforgettable start to the 2026 NRL Telstra Premiership! On Sunday\, March 1\, the 2026 NRL Season Opener explodes onto the world stage at Allegiant Stadium in Las Vegas\, Nevada with a blockbuster double-header featuring two of the fiercest rivalries in rugby league. \nFeel the electric atmosphere as the Bulldogs take on the Dragons\, followed by the Knights locking horns with the Cowboys in back-to-back action that will set the tone for the season ahead. \nCatch all the thrills LIVE and LOUD on the big screen — from powerful hits and slick tries to the roar of the crowd under the bright lights. It’s sport\, passion and spectacle rolled into one epic season kick-off!
URL:https://magpieswaitara.com.au/event/nrl-season-opener-las-vegas/
CATEGORIES:Live Sport
ATTACH;FMTTYPE=image/jpeg:https://magpieswaitara.com.au/wp-content/uploads/2026/01/NRL_Season_Opener_2026_-_TVL_-_Magpies_Waitara.jpg
END:VEVENT
BEGIN:VEVENT
DTSTART;TZID=UTC:20260301T200000
DTEND;TZID=UTC:20260301T200000
DTSTAMP:20260423T143854
CREATED:20260128T020359Z
LAST-MODIFIED:20260205T023547Z
UID:4788-1772395200-1772395200@magpieswaitara.com.au
SUMMARY:2026 Asian Cup - Matildas V Philippines
DESCRIPTION:Kick off the Asian Cup with a blockbuster night as the Matildas take on the Philippines. Expect fast-paced football\, fierce tackles\, and electric atmosphere as Australia begins its campaign under the lights. A must-see opener for fans ready to roar the Matildas home.\n\n\n \n\n\n\n\nGo into the draw to win a Matildas jersey when you spend $5 or more at the Members Bar during the match.
URL:https://magpieswaitara.com.au/event/2026-asian-cup-matildas-v-phillipines/
CATEGORIES:Live Sport
ATTACH;FMTTYPE=image/jpeg:https://magpieswaitara.com.au/wp-content/uploads/2026/01/MatildasVPhilippines_TVLS.jpg
END:VEVENT
BEGIN:VEVENT
DTSTART;TZID=UTC:20260305T190000
DTEND;TZID=UTC:20260305T190000
DTSTAMP:20260423T143854
CREATED:20260128T020749Z
LAST-MODIFIED:20260129T010831Z
UID:4791-1772737200-1772737200@magpieswaitara.com.au
SUMMARY:2026 Asian Cup - Matildas V Iran
DESCRIPTION:The Matildas return for a crucial midweek clash against Iran. With momentum on the line\, this match promises intensity\, skill\, and high stakes as Australia pushes deeper into the tournament. Be there to feel every moment.\n\n\n \n\n\n\n\nGo into the draw to win a Matildas jersey when you spend $5 or more at the Members Bar during the match.
URL:https://magpieswaitara.com.au/event/2026-asian-cup-matildas-v-iran/
CATEGORIES:Live Sport
ATTACH;FMTTYPE=image/jpeg:https://magpieswaitara.com.au/wp-content/uploads/2026/01/Matildas_v_Iran_Asian_Cup_2026_-_TVL_-_Magpies_Waitara.jpg
END:VEVENT
BEGIN:VEVENT
DTSTART;TZID=UTC:20260306T190000
DTEND;TZID=UTC:20260306T190000
DTSTAMP:20260423T143854
CREATED:20260107T045855Z
LAST-MODIFIED:20260116T014751Z
UID:4746-1772823600-1772823600@magpieswaitara.com.au
SUMMARY:Mum's Time Out! - Comedy Show
DESCRIPTION:Mum’s Time Out! brought to by Good Times Touring \nHey mums\, it’s time for a well-deserved break! Mums Time Out is your ultimate night out\, celebrating the real\, hilarious\, and often chaotic journey of motherhood\, the ups and downs of divorce\, and embracing life in your fabulous 40s. \nThis comedy show is all about the experiences that come with being a mum. Whether you’re navigating the challenges of raising kids\, dealing with the twists and turns of post-divorce life\, or simply enjoying the freedom and self-discovery of your 40s\, this show is for you.\nSimone Springer\, known for her sharp wit and engaging humour\, has been a standout performer with sold out show across Australia and the USA. \nJoin us for an evening of laughter and camaraderie as we dive into the relatable and often uproarious aspects of motherhood and life’s transitions. Bring your friends\, take a break from the daily grind\, and enjoy a night dedicated to celebrating the incredible journey of being a mum. \n– 18+ Event\n– Bar Available\n– Show starts at 7pm\, Doors open 6:30pm \nBUY TICKETS \nFor more information\, please direct your enquiry to events@goodtimestouring.com.au
URL:https://magpieswaitara.com.au/event/mums-time-out-comedy-show/
CATEGORIES:Special Events
ATTACH;FMTTYPE=image/png:https://magpieswaitara.com.au/wp-content/uploads/2026/01/Mum_s_Time_Out-1.png
END:VEVENT
BEGIN:VEVENT
DTSTART;TZID=UTC:20260307T193000
DTEND;TZID=UTC:20260307T223000
DTSTAMP:20260423T143854
CREATED:20251112T015520Z
LAST-MODIFIED:20251112T015520Z
UID:4570-1772911800-1772922600@magpieswaitara.com.au
SUMMARY:GROOVE CITY DUO
DESCRIPTION:GROOVE CITY DUO \n\n7.30 to 10.30pm
URL:https://magpieswaitara.com.au/event/groove-city-duo/
CATEGORIES:Entertainment
END:VEVENT
BEGIN:VEVENT
DTSTART;TZID=UTC:20260308T130000
DTEND;TZID=UTC:20260308T130000
DTSTAMP:20260423T143854
CREATED:20260219T021417Z
LAST-MODIFIED:20260219T021454Z
UID:4830-1772974800-1772974800@magpieswaitara.com.au
SUMMARY:UFC 326
DESCRIPTION:Join us for UFC 326 live & loud as this fight card promises to keep the early-year momentum going as Max “Blessed” Holloway and Charles “Do Bronxs” Oliveira clash for the BMF title. \nComing off a unanimous decision win over Dustin Poirier at UFC 318\, Hawaii’s Holloway looks to add a third straight BMF bout victory to his sterling resume\, which includes a victory over his UFC 326 challenger back when the pair were aspiring featherweights. For the former lightweight champion Oliveira\, who claimed a submission win over Mateusz Gamrot last time out in Rio de Janeiro\, it’s not only a chance to avenge his previous setback\, but to add another title to his collection as well. \nUndercards from 11am
URL:https://magpieswaitara.com.au/event/ufc-326/
CATEGORIES:Live Sport
ATTACH;FMTTYPE=image/jpeg:https://magpieswaitara.com.au/wp-content/uploads/2026/02/UFC_326_Venue_1920x1080-1.jpg
END:VEVENT
BEGIN:VEVENT
DTSTART;TZID=UTC:20260308T200000
DTEND;TZID=UTC:20260308T200000
DTSTAMP:20260423T143854
CREATED:20260128T020849Z
LAST-MODIFIED:20260129T010829Z
UID:4792-1773000000-1773000000@magpieswaitara.com.au
SUMMARY:2026 Asian Cup - Matildas V Republic of Korea
DESCRIPTION:A thrilling showdown awaits as the Matildas face tournament heavyweights Korea Republic. Expect top-tier talent\, tactical battles\, and edge-of-your-seat action in this prime-time Asian Cup clash. This is international football at its finest.\n\n\n \n\n\n\n\nGo into the draw to win a Matildas jersey when you spend $5 or more at the Members Bar during the match.
URL:https://magpieswaitara.com.au/event/2026-asian-cup-matildas-v-republic-of-korea/
CATEGORIES:Live Sport
ATTACH;FMTTYPE=image/jpeg:https://magpieswaitara.com.au/wp-content/uploads/2026/01/Matildas_v_Korea_Asian_Cup_2026_-_TVL_-_Magpies_Waitara.jpg
END:VEVENT
BEGIN:VEVENT
DTSTART;TZID=UTC:20260314T200000
DTEND;TZID=UTC:20260314T232000
DTSTAMP:20260423T143854
CREATED:20251112T015616Z
LAST-MODIFIED:20251112T015616Z
UID:4571-1773518400-1773530400@magpieswaitara.com.au
SUMMARY:KOTAHI GROOVE BAND
DESCRIPTION:KOTAHI GROOVE BAND \n\n8 to 11.20pm
URL:https://magpieswaitara.com.au/event/kotahi-groove-band/
CATEGORIES:Entertainment
END:VEVENT
BEGIN:VEVENT
DTSTART;VALUE=DATE:20260320
DTEND;VALUE=DATE:20260321
DTSTAMP:20260423T143854
CREATED:20260320T015048Z
LAST-MODIFIED:20260320T015048Z
UID:4892-1773964800-1774051199@magpieswaitara.com.au
SUMMARY:NRL
DESCRIPTION:Catch all the NRL action throughout the season live and loud on the big TV in the Members Lounge
URL:https://magpieswaitara.com.au/event/nrl/2026-03-20/
CATEGORIES:Live Sport
ATTACH;FMTTYPE=image/jpeg:https://magpieswaitara.com.au/wp-content/uploads/2026/03/NRL_Digital_Image_1920x1080px_2-1.jpg
END:VEVENT
BEGIN:VEVENT
DTSTART;TZID=UTC:20260321T193000
DTEND;TZID=UTC:20260321T223000
DTSTAMP:20260423T143854
CREATED:20251112T015659Z
LAST-MODIFIED:20251112T035127Z
UID:4572-1774121400-1774132200@magpieswaitara.com.au
SUMMARY:SCOTT THE ENTERTAINER
DESCRIPTION:SCOTT THE ENTERTAINER \n\n7.30 to 10.30pm
URL:https://magpieswaitara.com.au/event/cott-the-entertainer/
CATEGORIES:Entertainment
END:VEVENT
BEGIN:VEVENT
DTSTART;TZID=UTC:20260322T140000
DTEND;TZID=UTC:20260322T170000
DTSTAMP:20260423T143854
CREATED:20251112T015731Z
LAST-MODIFIED:20251112T015731Z
UID:4573-1774188000-1774198800@magpieswaitara.com.au
SUMMARY:ASTON MARTINIS (JAZZ)
DESCRIPTION:ASTON MARTINIS (JAZZ) \n\n2 to 5pm
URL:https://magpieswaitara.com.au/event/aston-martinis-jazz-4/
CATEGORIES:Entertainment
END:VEVENT
BEGIN:VEVENT
DTSTART;TZID=UTC:20260328T200000
DTEND;TZID=UTC:20260328T200000
DTSTAMP:20260423T143854
CREATED:20260107T025252Z
LAST-MODIFIED:20260108T032202Z
UID:4742-1774728000-1774728000@magpieswaitara.com.au
SUMMARY:Ultimate 70's Tribute - ROCK vs DISCO
DESCRIPTION:Magpies Waitara presents the Ultimate 70’s Tribute!\n\n\n \n\n\n“Rock vs Disco”.\n\n\n \n\n\nExperience 2 amazing bands facing off against each other\, and you get to decide if Rock or Disco reigns supreme. This is a fancy dress event\, so will your Costume reflect your love for Rock or Disco or BOTH?!\n\n\n \n\n\nLimited tickets available\, so get a group of friends together asap and let’s rock and roll all night and party everyday!\n\n\n \n\n\nNote – Strictly over 18 years only\n\n \n\nBUY TICKETS HERE
URL:https://magpieswaitara.com.au/event/ultimate-70s-tribute-rock-vs-disco/
CATEGORIES:Special Events
ATTACH;FMTTYPE=image/jpeg:https://magpieswaitara.com.au/wp-content/uploads/2026/01/March_28_Rock_V_Disco_-_TVL_-_Magpies_Waitara.jpg
END:VEVENT
BEGIN:VEVENT
DTSTART;TZID=UTC:20260328T200000
DTEND;TZID=UTC:20260328T232000
DTSTAMP:20260423T143854
CREATED:20251112T015816Z
LAST-MODIFIED:20251112T015816Z
UID:4574-1774728000-1774740000@magpieswaitara.com.au
SUMMARY:DISCO V ROCK 
DESCRIPTION:DISCO V ROCK \n\n8 to 11.20pm
URL:https://magpieswaitara.com.au/event/disco-v-rock/
CATEGORIES:Entertainment
END:VEVENT
BEGIN:VEVENT
DTSTART;TZID=UTC:20260403T110000
DTEND;TZID=UTC:20260403T110000
DTSTAMP:20260423T143854
CREATED:20260320T023820Z
LAST-MODIFIED:20260320T024734Z
UID:4921-1775214000-1775214000@magpieswaitara.com.au
SUMMARY:Good Friday Mega Raffle
DESCRIPTION:Celebrate Good Friday at Magpies Waitara with our annual MEGA Raffle. Over $5K in prizes to be won!\n​\nJoin us on Friday 3rd April\, with tickets on sale from 11am in the Members Lounge and the raffle drawn from 1pm.\nMembers Ticket Deal – Buy $10\, get $10 worth free.\n​\nEnjoy delicious lunch seafood specials from The Kitchen – Seafood Mixed Grill\, 1/2 Cuban Lobster Mornay\, Grilled Tuna Steak\, Prawn Arrabbiata\, Smoked Salmon & Avo Stack\, Seafood Basket\, Cripsy Whiting Fillets and Prawn & Oyster Plates.\n​\nYou can also treat yourself to great Seafood dishes from Lucky Magpie Asian Cuisine as you relax and enjoy the Good Friday vibes.
URL:https://magpieswaitara.com.au/event/good-friday-mega-raffle-5/
CATEGORIES:Special Events
ATTACH;FMTTYPE=image/jpeg:https://magpieswaitara.com.au/wp-content/uploads/2026/03/Good_Friday_Mega_Raffle_2026_-_TVL_-_Magpies_Waitara_V2.jpg
END:VEVENT
BEGIN:VEVENT
DTSTART;TZID=UTC:20260404T193000
DTEND;TZID=UTC:20260404T223000
DTSTAMP:20260423T143854
CREATED:20260224T021853Z
LAST-MODIFIED:20260224T021853Z
UID:4839-1775331000-1775341800@magpieswaitara.com.au
SUMMARY:2 LEFT FEET
DESCRIPTION:2 LEFT FEET \n\n7.30 – 10.30pm
URL:https://magpieswaitara.com.au/event/2-left-feet-3/
CATEGORIES:Entertainment
END:VEVENT
BEGIN:VEVENT
DTSTART;TZID=UTC:20260408T110000
DTEND;TZID=UTC:20260408T110000
DTSTAMP:20260423T143854
CREATED:20260320T024117Z
LAST-MODIFIED:20260320T024621Z
UID:4922-1775646000-1775646000@magpieswaitara.com.au
SUMMARY:K-Pop Disco - Messy Makers April School Holidays Fun
DESCRIPTION:🎤 Get ready to dance\, sing\, and shine at our K-Pop Disco! Join Messy Makers for an hour of high-energy fun filled with sing-alongs\, epic dance-offs\, and exciting games with prizes to be won. Show off your best moves\, rock your favourite K-pop merch\, and party with friends in this unforgettable disco experience. Perfect for all ages! \n🎟️ Tickets: $10 + booking fee \nSecure your spot now:\n👉 https://www.stickytickets.com.au/kqylvj \nEnjoy lunch afterwards at The Kitchen with kids meals available.
URL:https://magpieswaitara.com.au/event/k-pop-disco-messy-makers-april-school-holidays-fun/
CATEGORIES:Kids Entertainment
ATTACH;FMTTYPE=image/png:https://magpieswaitara.com.au/wp-content/uploads/2026/03/K_Pop_Disco-1.png
END:VEVENT
END:VCALENDAR