BEGIN:VCALENDAR
VERSION:2.0
PRODID:-//Magpies Waitara - ECPv6.15.16.1//NONSGML v1.0//EN
CALSCALE:GREGORIAN
METHOD:PUBLISH
X-ORIGINAL-URL:https://magpieswaitara.com.au
X-WR-CALDESC:Events for Magpies Waitara
REFRESH-INTERVAL;VALUE=DURATION:PT1H
X-Robots-Tag:noindex
X-PUBLISHED-TTL:PT1H
BEGIN:VTIMEZONE
TZID:UTC
BEGIN:STANDARD
TZOFFSETFROM:+0000
TZOFFSETTO:+0000
TZNAME:UTC
DTSTART:20250101T000000
END:STANDARD
END:VTIMEZONE
BEGIN:VEVENT
DTSTART;TZID=UTC:20260115T193000
DTEND;TZID=UTC:20260115T193000
DTSTAMP:20260421T123627
CREATED:20220601T013838Z
LAST-MODIFIED:20251222T001452Z
UID:1434-1768505400-1768505400@magpieswaitara.com.au
SUMMARY:Trivia
DESCRIPTION:Trivia is back on Thursday nights starting at 7:30pm and is free to play. Come join us for an evening of fun and games with plenty of prizes to win. \nNo bookings required. However for large groups\, please book your spot at Reception or by calling 02 5662 0117
URL:https://magpieswaitara.com.au/event/trivia/2026-01-15/
CATEGORIES:Weekly Events
ATTACH;FMTTYPE=image/jpeg:https://magpieswaitara.com.au/wp-content/uploads/2022/06/Website-scaled.jpg
END:VEVENT
END:VCALENDAR