BEGIN:VCALENDAR
VERSION:2.0
PRODID:-//Magpies Waitara - ECPv6.15.16.1//NONSGML v1.0//EN
CALSCALE:GREGORIAN
METHOD:PUBLISH
X-WR-CALNAME:Magpies Waitara
X-ORIGINAL-URL:https://magpieswaitara.com.au
X-WR-CALDESC:Events for Magpies Waitara
REFRESH-INTERVAL;VALUE=DURATION:PT1H
X-Robots-Tag:noindex
X-PUBLISHED-TTL:PT1H
BEGIN:VTIMEZONE
TZID:UTC
BEGIN:STANDARD
TZOFFSETFROM:+0000
TZOFFSETTO:+0000
TZNAME:UTC
DTSTART:20250101T000000
END:STANDARD
END:VTIMEZONE
BEGIN:VEVENT
DTSTART;TZID=UTC:20260501T183000
DTEND;TZID=UTC:20260501T183000
DTSTAMP:20260425T122230
CREATED:20221010T000637Z
LAST-MODIFIED:20221010T000637Z
UID:4799-1777660200-1777660200@magpieswaitara.com.au
SUMMARY:Pool Competition
DESCRIPTION:Come try your hand at our Pool Competition\, all skill levels are welcome. \n$5 entry fee \nRegistration from 6:30pm to 7pm \nCompetition Starts 7:30pm* \nBar opens 6:30pm \n*Depending on entries\, singles or doubles competition will be determined on the night
URL:https://magpieswaitara.com.au/event/pool-competition/2026-05-01/
CATEGORIES:Weekly Events
ATTACH;FMTTYPE=image/jpeg:https://magpieswaitara.com.au/wp-content/uploads/2022/10/WAITARA_PoolCompFridays_TV-LS.jpg
END:VEVENT
BEGIN:VEVENT
DTSTART;TZID=UTC:20260501T200000
DTEND;TZID=UTC:20260501T200000
DTSTAMP:20260425T122230
CREATED:20230707T062657Z
LAST-MODIFIED:20230707T062657Z
UID:4800-1777665600-1777665600@magpieswaitara.com.au
SUMMARY:Karaoke Fridays
DESCRIPTION:Join us every Friday from 8pm for a night of fun at Karaoke! \n\n\nWhether you’re a seasoned performer or just looking to have a good time\, our karaoke night is the perfect opportunity to showcase your talent and enjoy the company of friends. It’s the ultimate way to kick off the weekend!\n\n\n \n\n\nDon’t miss out on the chance to sing your heart out and make unforgettable memories and win some great prizes at the same time!
URL:https://magpieswaitara.com.au/event/karaoke-friday/2026-05-01/
CATEGORIES:Weekly Events
ATTACH;FMTTYPE=image/jpeg:https://magpieswaitara.com.au/wp-content/uploads/2023/07/Karaoke-2024-TVLS.jpg
END:VEVENT
BEGIN:VEVENT
DTSTART;TZID=UTC:20260503T180000
DTEND;TZID=UTC:20260503T180000
DTSTAMP:20260425T122230
CREATED:20220613T052326Z
LAST-MODIFIED:20220613T052326Z
UID:4804-1777831200-1777831200@magpieswaitara.com.au
SUMMARY:Sunday Poker
DESCRIPTION:Join us every Sunday – $20 buy-in \nIf you’ve ever wanted to give poker a go\, why not come in and give it a try. All skill levels are welcome. \nRegistrations from 5.30pm\, start 6pm \nSee Reception for room allocation each week.
URL:https://magpieswaitara.com.au/event/sunday-poker-2/2026-05-03/
CATEGORIES:Weekly Events
ATTACH;FMTTYPE=image/jpeg:https://magpieswaitara.com.au/wp-content/uploads/2022/06/Sunday-Poker-resized.jpg
END:VEVENT
BEGIN:VEVENT
DTSTART;TZID=UTC:20260505T113000
DTEND;TZID=UTC:20260505T113000
DTSTAMP:20260425T122230
CREATED:20211104T011508Z
LAST-MODIFIED:20260422T055359Z
UID:4807-1777980600-1777980600@magpieswaitara.com.au
SUMMARY:Bingo
DESCRIPTION:Win Woolies Gift Cards and Magpies Loot to spend within the club.\nTuesday & Thursday 11:30AM\nWednesday 7:00PM
URL:https://magpieswaitara.com.au/event/bingo/2026-05-05/
CATEGORIES:Weekly Events
ATTACH;FMTTYPE=image/jpeg:https://magpieswaitara.com.au/wp-content/uploads/2021/11/Bingo-resied.jpg
END:VEVENT
BEGIN:VEVENT
DTSTART;TZID=UTC:20260506T190000
DTEND;TZID=UTC:20260506T190000
DTSTAMP:20260425T122230
CREATED:20211104T011508Z
LAST-MODIFIED:20211104T011508Z
UID:5001-1778094000-1778094000@magpieswaitara.com.au
SUMMARY:Bingo
DESCRIPTION:Win Woolies Gift Cards and Magpies Loot to spend within the club.\nTuesday & Thursday 11:30AM\nWednesday 7:00PM
URL:https://magpieswaitara.com.au/event/bingo/2026-05-06/
CATEGORIES:Weekly Events
ATTACH;FMTTYPE=image/jpeg:https://magpieswaitara.com.au/wp-content/uploads/2021/11/Bingo-resied.jpg
END:VEVENT
BEGIN:VEVENT
DTSTART;TZID=UTC:20260507T113000
DTEND;TZID=UTC:20260507T113000
DTSTAMP:20260425T122230
CREATED:20211104T011508Z
LAST-MODIFIED:20260422T055359Z
UID:4809-1778153400-1778153400@magpieswaitara.com.au
SUMMARY:Bingo
DESCRIPTION:Win Woolies Gift Cards and Magpies Loot to spend within the club.\nTuesday & Thursday 11:30AM\nWednesday 7:00PM
URL:https://magpieswaitara.com.au/event/bingo/2026-05-07/
CATEGORIES:Weekly Events
ATTACH;FMTTYPE=image/jpeg:https://magpieswaitara.com.au/wp-content/uploads/2021/11/Bingo-resied.jpg
END:VEVENT
BEGIN:VEVENT
DTSTART;TZID=UTC:20260507T193000
DTEND;TZID=UTC:20260507T193000
DTSTAMP:20260425T122230
CREATED:20220601T013838Z
LAST-MODIFIED:20220601T013838Z
UID:4808-1778182200-1778182200@magpieswaitara.com.au
SUMMARY:Trivia
DESCRIPTION:Trivia is back on Thursday nights starting at 7:30pm and is free to play. Come join us for an evening of fun and games with plenty of prizes to win. \nNo bookings required. However for large groups\, please book your spot at Reception or by calling 02 5662 0117
URL:https://magpieswaitara.com.au/event/trivia/2026-05-07/
CATEGORIES:Weekly Events
ATTACH;FMTTYPE=image/jpeg:https://magpieswaitara.com.au/wp-content/uploads/2022/06/Website-scaled.jpg
END:VEVENT
BEGIN:VEVENT
DTSTART;TZID=UTC:20260508T183000
DTEND;TZID=UTC:20260508T183000
DTSTAMP:20260425T122230
CREATED:20221010T000637Z
LAST-MODIFIED:20221010T000637Z
UID:4812-1778265000-1778265000@magpieswaitara.com.au
SUMMARY:Pool Competition
DESCRIPTION:Come try your hand at our Pool Competition\, all skill levels are welcome. \n$5 entry fee \nRegistration from 6:30pm to 7pm \nCompetition Starts 7:30pm* \nBar opens 6:30pm \n*Depending on entries\, singles or doubles competition will be determined on the night
URL:https://magpieswaitara.com.au/event/pool-competition/2026-05-08/
CATEGORIES:Weekly Events
ATTACH;FMTTYPE=image/jpeg:https://magpieswaitara.com.au/wp-content/uploads/2022/10/WAITARA_PoolCompFridays_TV-LS.jpg
END:VEVENT
BEGIN:VEVENT
DTSTART;TZID=UTC:20260508T200000
DTEND;TZID=UTC:20260508T200000
DTSTAMP:20260425T122230
CREATED:20230707T062657Z
LAST-MODIFIED:20230707T062657Z
UID:4813-1778270400-1778270400@magpieswaitara.com.au
SUMMARY:Karaoke Fridays
DESCRIPTION:Join us every Friday from 8pm for a night of fun at Karaoke! \n\n\nWhether you’re a seasoned performer or just looking to have a good time\, our karaoke night is the perfect opportunity to showcase your talent and enjoy the company of friends. It’s the ultimate way to kick off the weekend!\n\n\n \n\n\nDon’t miss out on the chance to sing your heart out and make unforgettable memories and win some great prizes at the same time!
URL:https://magpieswaitara.com.au/event/karaoke-friday/2026-05-08/
CATEGORIES:Weekly Events
ATTACH;FMTTYPE=image/jpeg:https://magpieswaitara.com.au/wp-content/uploads/2023/07/Karaoke-2024-TVLS.jpg
END:VEVENT
BEGIN:VEVENT
DTSTART;TZID=UTC:20260510T180000
DTEND;TZID=UTC:20260510T180000
DTSTAMP:20260425T122230
CREATED:20220613T052326Z
LAST-MODIFIED:20220613T052326Z
UID:4817-1778436000-1778436000@magpieswaitara.com.au
SUMMARY:Sunday Poker
DESCRIPTION:Join us every Sunday – $20 buy-in \nIf you’ve ever wanted to give poker a go\, why not come in and give it a try. All skill levels are welcome. \nRegistrations from 5.30pm\, start 6pm \nSee Reception for room allocation each week.
URL:https://magpieswaitara.com.au/event/sunday-poker-2/2026-05-10/
CATEGORIES:Weekly Events
ATTACH;FMTTYPE=image/jpeg:https://magpieswaitara.com.au/wp-content/uploads/2022/06/Sunday-Poker-resized.jpg
END:VEVENT
BEGIN:VEVENT
DTSTART;TZID=UTC:20260512T113000
DTEND;TZID=UTC:20260512T113000
DTSTAMP:20260425T122230
CREATED:20211104T011508Z
LAST-MODIFIED:20260422T055359Z
UID:4818-1778585400-1778585400@magpieswaitara.com.au
SUMMARY:Bingo
DESCRIPTION:Win Woolies Gift Cards and Magpies Loot to spend within the club.\nTuesday & Thursday 11:30AM\nWednesday 7:00PM
URL:https://magpieswaitara.com.au/event/bingo/2026-05-12/
CATEGORIES:Weekly Events
ATTACH;FMTTYPE=image/jpeg:https://magpieswaitara.com.au/wp-content/uploads/2021/11/Bingo-resied.jpg
END:VEVENT
BEGIN:VEVENT
DTSTART;TZID=UTC:20260513T190000
DTEND;TZID=UTC:20260513T190000
DTSTAMP:20260425T122230
CREATED:20211104T011508Z
LAST-MODIFIED:20211104T011508Z
UID:5002-1778698800-1778698800@magpieswaitara.com.au
SUMMARY:Bingo
DESCRIPTION:Win Woolies Gift Cards and Magpies Loot to spend within the club.\nTuesday & Thursday 11:30AM\nWednesday 7:00PM
URL:https://magpieswaitara.com.au/event/bingo/2026-05-13/
CATEGORIES:Weekly Events
ATTACH;FMTTYPE=image/jpeg:https://magpieswaitara.com.au/wp-content/uploads/2021/11/Bingo-resied.jpg
END:VEVENT
BEGIN:VEVENT
DTSTART;TZID=UTC:20260514T113000
DTEND;TZID=UTC:20260514T113000
DTSTAMP:20260425T122230
CREATED:20211104T011508Z
LAST-MODIFIED:20260422T055400Z
UID:4820-1778758200-1778758200@magpieswaitara.com.au
SUMMARY:Bingo
DESCRIPTION:Win Woolies Gift Cards and Magpies Loot to spend within the club.\nTuesday & Thursday 11:30AM\nWednesday 7:00PM
URL:https://magpieswaitara.com.au/event/bingo/2026-05-14/
CATEGORIES:Weekly Events
ATTACH;FMTTYPE=image/jpeg:https://magpieswaitara.com.au/wp-content/uploads/2021/11/Bingo-resied.jpg
END:VEVENT
BEGIN:VEVENT
DTSTART;TZID=UTC:20260514T193000
DTEND;TZID=UTC:20260514T193000
DTSTAMP:20260425T122230
CREATED:20220601T013838Z
LAST-MODIFIED:20220601T013838Z
UID:4819-1778787000-1778787000@magpieswaitara.com.au
SUMMARY:Trivia
DESCRIPTION:Trivia is back on Thursday nights starting at 7:30pm and is free to play. Come join us for an evening of fun and games with plenty of prizes to win. \nNo bookings required. However for large groups\, please book your spot at Reception or by calling 02 5662 0117
URL:https://magpieswaitara.com.au/event/trivia/2026-05-14/
CATEGORIES:Weekly Events
ATTACH;FMTTYPE=image/jpeg:https://magpieswaitara.com.au/wp-content/uploads/2022/06/Website-scaled.jpg
END:VEVENT
BEGIN:VEVENT
DTSTART;TZID=UTC:20260515T183000
DTEND;TZID=UTC:20260515T183000
DTSTAMP:20260425T122230
CREATED:20221010T000637Z
LAST-MODIFIED:20221010T000637Z
UID:4821-1778869800-1778869800@magpieswaitara.com.au
SUMMARY:Pool Competition
DESCRIPTION:Come try your hand at our Pool Competition\, all skill levels are welcome. \n$5 entry fee \nRegistration from 6:30pm to 7pm \nCompetition Starts 7:30pm* \nBar opens 6:30pm \n*Depending on entries\, singles or doubles competition will be determined on the night
URL:https://magpieswaitara.com.au/event/pool-competition/2026-05-15/
CATEGORIES:Weekly Events
ATTACH;FMTTYPE=image/jpeg:https://magpieswaitara.com.au/wp-content/uploads/2022/10/WAITARA_PoolCompFridays_TV-LS.jpg
END:VEVENT
BEGIN:VEVENT
DTSTART;TZID=UTC:20260515T200000
DTEND;TZID=UTC:20260515T200000
DTSTAMP:20260425T122230
CREATED:20230707T062657Z
LAST-MODIFIED:20230707T062657Z
UID:4822-1778875200-1778875200@magpieswaitara.com.au
SUMMARY:Karaoke Fridays
DESCRIPTION:Join us every Friday from 8pm for a night of fun at Karaoke! \n\n\nWhether you’re a seasoned performer or just looking to have a good time\, our karaoke night is the perfect opportunity to showcase your talent and enjoy the company of friends. It’s the ultimate way to kick off the weekend!\n\n\n \n\n\nDon’t miss out on the chance to sing your heart out and make unforgettable memories and win some great prizes at the same time!
URL:https://magpieswaitara.com.au/event/karaoke-friday/2026-05-15/
CATEGORIES:Weekly Events
ATTACH;FMTTYPE=image/jpeg:https://magpieswaitara.com.au/wp-content/uploads/2023/07/Karaoke-2024-TVLS.jpg
END:VEVENT
BEGIN:VEVENT
DTSTART;TZID=UTC:20260517T180000
DTEND;TZID=UTC:20260517T180000
DTSTAMP:20260425T122230
CREATED:20220613T052326Z
LAST-MODIFIED:20220613T052326Z
UID:4827-1779040800-1779040800@magpieswaitara.com.au
SUMMARY:Sunday Poker
DESCRIPTION:Join us every Sunday – $20 buy-in \nIf you’ve ever wanted to give poker a go\, why not come in and give it a try. All skill levels are welcome. \nRegistrations from 5.30pm\, start 6pm \nSee Reception for room allocation each week.
URL:https://magpieswaitara.com.au/event/sunday-poker-2/2026-05-17/
CATEGORIES:Weekly Events
ATTACH;FMTTYPE=image/jpeg:https://magpieswaitara.com.au/wp-content/uploads/2022/06/Sunday-Poker-resized.jpg
END:VEVENT
BEGIN:VEVENT
DTSTART;TZID=UTC:20260519T113000
DTEND;TZID=UTC:20260519T113000
DTSTAMP:20260425T122230
CREATED:20211104T011508Z
LAST-MODIFIED:20260422T055400Z
UID:4832-1779190200-1779190200@magpieswaitara.com.au
SUMMARY:Bingo
DESCRIPTION:Win Woolies Gift Cards and Magpies Loot to spend within the club.\nTuesday & Thursday 11:30AM\nWednesday 7:00PM
URL:https://magpieswaitara.com.au/event/bingo/2026-05-19/
CATEGORIES:Weekly Events
ATTACH;FMTTYPE=image/jpeg:https://magpieswaitara.com.au/wp-content/uploads/2021/11/Bingo-resied.jpg
END:VEVENT
BEGIN:VEVENT
DTSTART;TZID=UTC:20260520T190000
DTEND;TZID=UTC:20260520T190000
DTSTAMP:20260425T122230
CREATED:20211104T011508Z
LAST-MODIFIED:20211104T011508Z
UID:5003-1779303600-1779303600@magpieswaitara.com.au
SUMMARY:Bingo
DESCRIPTION:Win Woolies Gift Cards and Magpies Loot to spend within the club.\nTuesday & Thursday 11:30AM\nWednesday 7:00PM
URL:https://magpieswaitara.com.au/event/bingo/2026-05-20/
CATEGORIES:Weekly Events
ATTACH;FMTTYPE=image/jpeg:https://magpieswaitara.com.au/wp-content/uploads/2021/11/Bingo-resied.jpg
END:VEVENT
BEGIN:VEVENT
DTSTART;TZID=UTC:20260521T113000
DTEND;TZID=UTC:20260521T113000
DTSTAMP:20260425T122230
CREATED:20211104T011508Z
LAST-MODIFIED:20260422T055401Z
UID:4834-1779363000-1779363000@magpieswaitara.com.au
SUMMARY:Bingo
DESCRIPTION:Win Woolies Gift Cards and Magpies Loot to spend within the club.\nTuesday & Thursday 11:30AM\nWednesday 7:00PM
URL:https://magpieswaitara.com.au/event/bingo/2026-05-21/
CATEGORIES:Weekly Events
ATTACH;FMTTYPE=image/jpeg:https://magpieswaitara.com.au/wp-content/uploads/2021/11/Bingo-resied.jpg
END:VEVENT
BEGIN:VEVENT
DTSTART;TZID=UTC:20260521T193000
DTEND;TZID=UTC:20260521T193000
DTSTAMP:20260425T122230
CREATED:20220601T013838Z
LAST-MODIFIED:20220601T013838Z
UID:4833-1779391800-1779391800@magpieswaitara.com.au
SUMMARY:Trivia
DESCRIPTION:Trivia is back on Thursday nights starting at 7:30pm and is free to play. Come join us for an evening of fun and games with plenty of prizes to win. \nNo bookings required. However for large groups\, please book your spot at Reception or by calling 02 5662 0117
URL:https://magpieswaitara.com.au/event/trivia/2026-05-21/
CATEGORIES:Weekly Events
ATTACH;FMTTYPE=image/jpeg:https://magpieswaitara.com.au/wp-content/uploads/2022/06/Website-scaled.jpg
END:VEVENT
BEGIN:VEVENT
DTSTART;TZID=UTC:20260522T183000
DTEND;TZID=UTC:20260522T183000
DTSTAMP:20260425T122230
CREATED:20221010T000637Z
LAST-MODIFIED:20221010T000637Z
UID:4835-1779474600-1779474600@magpieswaitara.com.au
SUMMARY:Pool Competition
DESCRIPTION:Come try your hand at our Pool Competition\, all skill levels are welcome. \n$5 entry fee \nRegistration from 6:30pm to 7pm \nCompetition Starts 7:30pm* \nBar opens 6:30pm \n*Depending on entries\, singles or doubles competition will be determined on the night
URL:https://magpieswaitara.com.au/event/pool-competition/2026-05-22/
CATEGORIES:Weekly Events
ATTACH;FMTTYPE=image/jpeg:https://magpieswaitara.com.au/wp-content/uploads/2022/10/WAITARA_PoolCompFridays_TV-LS.jpg
END:VEVENT
BEGIN:VEVENT
DTSTART;TZID=UTC:20260522T200000
DTEND;TZID=UTC:20260522T200000
DTSTAMP:20260425T122230
CREATED:20230707T062657Z
LAST-MODIFIED:20230707T062657Z
UID:4836-1779480000-1779480000@magpieswaitara.com.au
SUMMARY:Karaoke Fridays
DESCRIPTION:Join us every Friday from 8pm for a night of fun at Karaoke! \n\n\nWhether you’re a seasoned performer or just looking to have a good time\, our karaoke night is the perfect opportunity to showcase your talent and enjoy the company of friends. It’s the ultimate way to kick off the weekend!\n\n\n \n\n\nDon’t miss out on the chance to sing your heart out and make unforgettable memories and win some great prizes at the same time!
URL:https://magpieswaitara.com.au/event/karaoke-friday/2026-05-22/
CATEGORIES:Weekly Events
ATTACH;FMTTYPE=image/jpeg:https://magpieswaitara.com.au/wp-content/uploads/2023/07/Karaoke-2024-TVLS.jpg
END:VEVENT
BEGIN:VEVENT
DTSTART;TZID=UTC:20260524T180000
DTEND;TZID=UTC:20260524T180000
DTSTAMP:20260425T122230
CREATED:20220613T052326Z
LAST-MODIFIED:20220613T052326Z
UID:4856-1779645600-1779645600@magpieswaitara.com.au
SUMMARY:Sunday Poker
DESCRIPTION:Join us every Sunday – $20 buy-in \nIf you’ve ever wanted to give poker a go\, why not come in and give it a try. All skill levels are welcome. \nRegistrations from 5.30pm\, start 6pm \nSee Reception for room allocation each week.
URL:https://magpieswaitara.com.au/event/sunday-poker-2/2026-05-24/
CATEGORIES:Weekly Events
ATTACH;FMTTYPE=image/jpeg:https://magpieswaitara.com.au/wp-content/uploads/2022/06/Sunday-Poker-resized.jpg
END:VEVENT
BEGIN:VEVENT
DTSTART;TZID=UTC:20260526T113000
DTEND;TZID=UTC:20260526T113000
DTSTAMP:20260425T122230
CREATED:20211104T011508Z
LAST-MODIFIED:20260422T055401Z
UID:4859-1779795000-1779795000@magpieswaitara.com.au
SUMMARY:Bingo
DESCRIPTION:Win Woolies Gift Cards and Magpies Loot to spend within the club.\nTuesday & Thursday 11:30AM\nWednesday 7:00PM
URL:https://magpieswaitara.com.au/event/bingo/2026-05-26/
CATEGORIES:Weekly Events
ATTACH;FMTTYPE=image/jpeg:https://magpieswaitara.com.au/wp-content/uploads/2021/11/Bingo-resied.jpg
END:VEVENT
BEGIN:VEVENT
DTSTART;TZID=UTC:20260527T190000
DTEND;TZID=UTC:20260527T190000
DTSTAMP:20260425T122230
CREATED:20211104T011508Z
LAST-MODIFIED:20211104T011508Z
UID:5004-1779908400-1779908400@magpieswaitara.com.au
SUMMARY:Bingo
DESCRIPTION:Win Woolies Gift Cards and Magpies Loot to spend within the club.\nTuesday & Thursday 11:30AM\nWednesday 7:00PM
URL:https://magpieswaitara.com.au/event/bingo/2026-05-27/
CATEGORIES:Weekly Events
ATTACH;FMTTYPE=image/jpeg:https://magpieswaitara.com.au/wp-content/uploads/2021/11/Bingo-resied.jpg
END:VEVENT
BEGIN:VEVENT
DTSTART;TZID=UTC:20260528T113000
DTEND;TZID=UTC:20260528T113000
DTSTAMP:20260425T122230
CREATED:20211104T011508Z
LAST-MODIFIED:20260422T055401Z
UID:4868-1779967800-1779967800@magpieswaitara.com.au
SUMMARY:Bingo
DESCRIPTION:Win Woolies Gift Cards and Magpies Loot to spend within the club.\nTuesday & Thursday 11:30AM\nWednesday 7:00PM
URL:https://magpieswaitara.com.au/event/bingo/2026-05-28/
CATEGORIES:Weekly Events
ATTACH;FMTTYPE=image/jpeg:https://magpieswaitara.com.au/wp-content/uploads/2021/11/Bingo-resied.jpg
END:VEVENT
BEGIN:VEVENT
DTSTART;TZID=UTC:20260528T193000
DTEND;TZID=UTC:20260528T193000
DTSTAMP:20260425T122230
CREATED:20220601T013838Z
LAST-MODIFIED:20220601T013838Z
UID:4860-1779996600-1779996600@magpieswaitara.com.au
SUMMARY:Trivia
DESCRIPTION:Trivia is back on Thursday nights starting at 7:30pm and is free to play. Come join us for an evening of fun and games with plenty of prizes to win. \nNo bookings required. However for large groups\, please book your spot at Reception or by calling 02 5662 0117
URL:https://magpieswaitara.com.au/event/trivia/2026-05-28/
CATEGORIES:Weekly Events
ATTACH;FMTTYPE=image/jpeg:https://magpieswaitara.com.au/wp-content/uploads/2022/06/Website-scaled.jpg
END:VEVENT
BEGIN:VEVENT
DTSTART;TZID=UTC:20260529T183000
DTEND;TZID=UTC:20260529T183000
DTSTAMP:20260425T122230
CREATED:20221010T000637Z
LAST-MODIFIED:20221010T000637Z
UID:4861-1780079400-1780079400@magpieswaitara.com.au
SUMMARY:Pool Competition
DESCRIPTION:Come try your hand at our Pool Competition\, all skill levels are welcome. \n$5 entry fee \nRegistration from 6:30pm to 7pm \nCompetition Starts 7:30pm* \nBar opens 6:30pm \n*Depending on entries\, singles or doubles competition will be determined on the night
URL:https://magpieswaitara.com.au/event/pool-competition/2026-05-29/
CATEGORIES:Weekly Events
ATTACH;FMTTYPE=image/jpeg:https://magpieswaitara.com.au/wp-content/uploads/2022/10/WAITARA_PoolCompFridays_TV-LS.jpg
END:VEVENT
BEGIN:VEVENT
DTSTART;TZID=UTC:20260529T200000
DTEND;TZID=UTC:20260529T200000
DTSTAMP:20260425T122230
CREATED:20230707T062657Z
LAST-MODIFIED:20230707T062657Z
UID:4862-1780084800-1780084800@magpieswaitara.com.au
SUMMARY:Karaoke Fridays
DESCRIPTION:Join us every Friday from 8pm for a night of fun at Karaoke! \n\n\nWhether you’re a seasoned performer or just looking to have a good time\, our karaoke night is the perfect opportunity to showcase your talent and enjoy the company of friends. It’s the ultimate way to kick off the weekend!\n\n\n \n\n\nDon’t miss out on the chance to sing your heart out and make unforgettable memories and win some great prizes at the same time!
URL:https://magpieswaitara.com.au/event/karaoke-friday/2026-05-29/
CATEGORIES:Weekly Events
ATTACH;FMTTYPE=image/jpeg:https://magpieswaitara.com.au/wp-content/uploads/2023/07/Karaoke-2024-TVLS.jpg
END:VEVENT
END:VCALENDAR