BEGIN:VCALENDAR
VERSION:2.0
PRODID:-//Magpies Waitara - ECPv6.15.16.1//NONSGML v1.0//EN
CALSCALE:GREGORIAN
METHOD:PUBLISH
X-ORIGINAL-URL:https://magpieswaitara.com.au
X-WR-CALDESC:Events for Magpies Waitara
REFRESH-INTERVAL;VALUE=DURATION:PT1H
X-Robots-Tag:noindex
X-PUBLISHED-TTL:PT1H
BEGIN:VTIMEZONE
TZID:UTC
BEGIN:STANDARD
TZOFFSETFROM:+0000
TZOFFSETTO:+0000
TZNAME:UTC
DTSTART:20250101T000000
END:STANDARD
END:VTIMEZONE
BEGIN:VEVENT
DTSTART;TZID=UTC:20260320T183000
DTEND;TZID=UTC:20260320T183000
DTSTAMP:20260421T142142
CREATED:20221010T000637Z
LAST-MODIFIED:20221010T000637Z
UID:4654-1774031400-1774031400@magpieswaitara.com.au
SUMMARY:Pool Competition
DESCRIPTION:Come try your hand at our Pool Competition\, all skill levels are welcome. \n$5 entry fee \nRegistration from 6:30pm to 7pm \nCompetition Starts 7:30pm* \nBar opens 6:30pm \n*Depending on entries\, singles or doubles competition will be determined on the night
URL:https://magpieswaitara.com.au/event/pool-competition/2026-03-20/
CATEGORIES:Weekly Events
ATTACH;FMTTYPE=image/jpeg:https://magpieswaitara.com.au/wp-content/uploads/2022/10/WAITARA_PoolCompFridays_TV-LS.jpg
END:VEVENT
BEGIN:VEVENT
DTSTART;TZID=UTC:20260320T200000
DTEND;TZID=UTC:20260320T200000
DTSTAMP:20260421T142142
CREATED:20230707T062657Z
LAST-MODIFIED:20230707T062657Z
UID:4677-1774036800-1774036800@magpieswaitara.com.au
SUMMARY:Karaoke Fridays
DESCRIPTION:Join us every Friday from 8pm for a night of fun at Karaoke! \n\n\nWhether you’re a seasoned performer or just looking to have a good time\, our karaoke night is the perfect opportunity to showcase your talent and enjoy the company of friends. It’s the ultimate way to kick off the weekend!\n\n\n \n\n\nDon’t miss out on the chance to sing your heart out and make unforgettable memories and win some great prizes at the same time!
URL:https://magpieswaitara.com.au/event/karaoke-friday/2026-03-20/
CATEGORIES:Weekly Events
ATTACH;FMTTYPE=image/jpeg:https://magpieswaitara.com.au/wp-content/uploads/2023/07/Karaoke-2024-TVLS.jpg
END:VEVENT
BEGIN:VEVENT
DTSTART;TZID=UTC:20260322T180000
DTEND;TZID=UTC:20260322T180000
DTSTAMP:20260421T142142
CREATED:20220613T052326Z
LAST-MODIFIED:20251229T011836Z
UID:4679-1774202400-1774202400@magpieswaitara.com.au
SUMMARY:Sunday Poker
DESCRIPTION:Join us every Sunday – $20 buy-in \nIf you’ve ever wanted to give poker a go\, why not come in and give it a try. All skill levels are welcome. \nRegistrations from 5.30pm\, start 6pm \nSee Reception for room allocation each week.
URL:https://magpieswaitara.com.au/event/sunday-poker-2/2026-03-22/
CATEGORIES:Weekly Events
ATTACH;FMTTYPE=image/jpeg:https://magpieswaitara.com.au/wp-content/uploads/2022/06/Sunday-Poker-resized.jpg
END:VEVENT
BEGIN:VEVENT
DTSTART;TZID=UTC:20260324T113000
DTEND;TZID=UTC:20260324T113000
DTSTAMP:20260421T142142
CREATED:20211104T011508Z
LAST-MODIFIED:20211104T011508Z
UID:4680-1774351800-1774351800@magpieswaitara.com.au
SUMMARY:Bingo
DESCRIPTION:Win Woolies Gift Cards and Magpies Loot to spend within the club.\nTuesday & Thursday 11:30AM\nWednesday 7:00PM
URL:https://magpieswaitara.com.au/event/bingo/2026-03-24/
CATEGORIES:Weekly Events
ATTACH;FMTTYPE=image/jpeg:https://magpieswaitara.com.au/wp-content/uploads/2021/11/Bingo-resied.jpg
END:VEVENT
BEGIN:VEVENT
DTSTART;TZID=UTC:20260326T113000
DTEND;TZID=UTC:20260326T113000
DTSTAMP:20260421T142142
CREATED:20211104T011508Z
LAST-MODIFIED:20211104T011508Z
UID:4682-1774524600-1774524600@magpieswaitara.com.au
SUMMARY:Bingo
DESCRIPTION:Win Woolies Gift Cards and Magpies Loot to spend within the club.\nTuesday & Thursday 11:30AM\nWednesday 7:00PM
URL:https://magpieswaitara.com.au/event/bingo/2026-03-26/
CATEGORIES:Weekly Events
ATTACH;FMTTYPE=image/jpeg:https://magpieswaitara.com.au/wp-content/uploads/2021/11/Bingo-resied.jpg
END:VEVENT
BEGIN:VEVENT
DTSTART;TZID=UTC:20260326T193000
DTEND;TZID=UTC:20260326T193000
DTSTAMP:20260421T142142
CREATED:20220601T013838Z
LAST-MODIFIED:20220601T013838Z
UID:4681-1774553400-1774553400@magpieswaitara.com.au
SUMMARY:Trivia
DESCRIPTION:Trivia is back on Thursday nights starting at 7:30pm and is free to play. Come join us for an evening of fun and games with plenty of prizes to win. \nNo bookings required. However for large groups\, please book your spot at Reception or by calling 02 5662 0117
URL:https://magpieswaitara.com.au/event/trivia/2026-03-26/
CATEGORIES:Weekly Events
ATTACH;FMTTYPE=image/jpeg:https://magpieswaitara.com.au/wp-content/uploads/2022/06/Website-scaled.jpg
END:VEVENT
BEGIN:VEVENT
DTSTART;TZID=UTC:20260327T183000
DTEND;TZID=UTC:20260327T183000
DTSTAMP:20260421T142142
CREATED:20221010T000637Z
LAST-MODIFIED:20221010T000637Z
UID:4683-1774636200-1774636200@magpieswaitara.com.au
SUMMARY:Pool Competition
DESCRIPTION:Come try your hand at our Pool Competition\, all skill levels are welcome. \n$5 entry fee \nRegistration from 6:30pm to 7pm \nCompetition Starts 7:30pm* \nBar opens 6:30pm \n*Depending on entries\, singles or doubles competition will be determined on the night
URL:https://magpieswaitara.com.au/event/pool-competition/2026-03-27/
CATEGORIES:Weekly Events
ATTACH;FMTTYPE=image/jpeg:https://magpieswaitara.com.au/wp-content/uploads/2022/10/WAITARA_PoolCompFridays_TV-LS.jpg
END:VEVENT
BEGIN:VEVENT
DTSTART;TZID=UTC:20260327T200000
DTEND;TZID=UTC:20260327T200000
DTSTAMP:20260421T142142
CREATED:20230707T062657Z
LAST-MODIFIED:20230707T062657Z
UID:4684-1774641600-1774641600@magpieswaitara.com.au
SUMMARY:Karaoke Fridays
DESCRIPTION:Join us every Friday from 8pm for a night of fun at Karaoke! \n\n\nWhether you’re a seasoned performer or just looking to have a good time\, our karaoke night is the perfect opportunity to showcase your talent and enjoy the company of friends. It’s the ultimate way to kick off the weekend!\n\n\n \n\n\nDon’t miss out on the chance to sing your heart out and make unforgettable memories and win some great prizes at the same time!
URL:https://magpieswaitara.com.au/event/karaoke-friday/2026-03-27/
CATEGORIES:Weekly Events
ATTACH;FMTTYPE=image/jpeg:https://magpieswaitara.com.au/wp-content/uploads/2023/07/Karaoke-2024-TVLS.jpg
END:VEVENT
BEGIN:VEVENT
DTSTART;TZID=UTC:20260329T180000
DTEND;TZID=UTC:20260329T180000
DTSTAMP:20260421T142142
CREATED:20220613T052326Z
LAST-MODIFIED:20220613T052326Z
UID:4730-1774807200-1774807200@magpieswaitara.com.au
SUMMARY:Sunday Poker
DESCRIPTION:Join us every Sunday – $20 buy-in \nIf you’ve ever wanted to give poker a go\, why not come in and give it a try. All skill levels are welcome. \nRegistrations from 5.30pm\, start 6pm \nSee Reception for room allocation each week.
URL:https://magpieswaitara.com.au/event/sunday-poker-2/2026-03-29/
CATEGORIES:Weekly Events
ATTACH;FMTTYPE=image/jpeg:https://magpieswaitara.com.au/wp-content/uploads/2022/06/Sunday-Poker-resized.jpg
END:VEVENT
BEGIN:VEVENT
DTSTART;TZID=UTC:20260331T113000
DTEND;TZID=UTC:20260331T113000
DTSTAMP:20260421T142142
CREATED:20211104T011508Z
LAST-MODIFIED:20211104T011508Z
UID:4731-1774956600-1774956600@magpieswaitara.com.au
SUMMARY:Bingo
DESCRIPTION:Win Woolies Gift Cards and Magpies Loot to spend within the club.\nTuesday & Thursday 11:30AM\nWednesday 7:00PM
URL:https://magpieswaitara.com.au/event/bingo/2026-03-31/
CATEGORIES:Weekly Events
ATTACH;FMTTYPE=image/jpeg:https://magpieswaitara.com.au/wp-content/uploads/2021/11/Bingo-resied.jpg
END:VEVENT
END:VCALENDAR