BEGIN:VCALENDAR
VERSION:2.0
PRODID:-//Magpies Waitara - ECPv6.15.16.1//NONSGML v1.0//EN
CALSCALE:GREGORIAN
METHOD:PUBLISH
X-WR-CALNAME:Magpies Waitara
X-ORIGINAL-URL:https://magpieswaitara.com.au
X-WR-CALDESC:Events for Magpies Waitara
REFRESH-INTERVAL;VALUE=DURATION:PT1H
X-Robots-Tag:noindex
X-PUBLISHED-TTL:PT1H
BEGIN:VTIMEZONE
TZID:UTC
BEGIN:STANDARD
TZOFFSETFROM:+0000
TZOFFSETTO:+0000
TZNAME:UTC
DTSTART:20250101T000000
END:STANDARD
END:VTIMEZONE
BEGIN:VEVENT
DTSTART;TZID=UTC:20260206T183000
DTEND;TZID=UTC:20260206T183000
DTSTAMP:20260425T121215
CREATED:20221010T000637Z
LAST-MODIFIED:20251222T001154Z
UID:1761-1770402600-1770402600@magpieswaitara.com.au
SUMMARY:Pool Competition
DESCRIPTION:Come try your hand at our Pool Competition\, all skill levels are welcome. \n$5 entry fee \nRegistration from 6:30pm to 7pm \nCompetition Starts 7:30pm* \nBar opens 6:30pm \n*Depending on entries\, singles or doubles competition will be determined on the night
URL:https://magpieswaitara.com.au/event/pool-competition/2026-02-06/
CATEGORIES:Weekly Events
ATTACH;FMTTYPE=image/jpeg:https://magpieswaitara.com.au/wp-content/uploads/2022/10/WAITARA_PoolCompFridays_TV-LS.jpg
END:VEVENT
BEGIN:VEVENT
DTSTART;TZID=UTC:20260206T200000
DTEND;TZID=UTC:20260206T200000
DTSTAMP:20260425T121215
CREATED:20230707T062657Z
LAST-MODIFIED:20251222T001537Z
UID:2327-1770408000-1770408000@magpieswaitara.com.au
SUMMARY:Karaoke Fridays
DESCRIPTION:Join us every Friday from 8pm for a night of fun at Karaoke! \n\n\nWhether you’re a seasoned performer or just looking to have a good time\, our karaoke night is the perfect opportunity to showcase your talent and enjoy the company of friends. It’s the ultimate way to kick off the weekend!\n\n\n \n\n\nDon’t miss out on the chance to sing your heart out and make unforgettable memories and win some great prizes at the same time!
URL:https://magpieswaitara.com.au/event/karaoke-friday/2026-02-06/
CATEGORIES:Weekly Events
ATTACH;FMTTYPE=image/jpeg:https://magpieswaitara.com.au/wp-content/uploads/2023/07/Karaoke-2024-TVLS.jpg
END:VEVENT
END:VCALENDAR