BEGIN:VCALENDAR
VERSION:2.0
PRODID:-//Magpies Waitara - ECPv6.15.16.1//NONSGML v1.0//EN
CALSCALE:GREGORIAN
METHOD:PUBLISH
X-ORIGINAL-URL:https://magpieswaitara.com.au
X-WR-CALDESC:Events for Magpies Waitara
REFRESH-INTERVAL;VALUE=DURATION:PT1H
X-Robots-Tag:noindex
X-PUBLISHED-TTL:PT1H
BEGIN:VTIMEZONE
TZID:UTC
BEGIN:STANDARD
TZOFFSETFROM:+0000
TZOFFSETTO:+0000
TZNAME:UTC
DTSTART:20210101T000000
END:STANDARD
END:VTIMEZONE
BEGIN:VEVENT
DTSTART;TZID=UTC:20221101T100000
DTEND;TZID=UTC:20221101T100000
DTSTAMP:20260421T102927
CREATED:20220929T235405Z
LAST-MODIFIED:20220930T001737Z
UID:1745-1667296800-1667296800@magpieswaitara.com.au
SUMMARY:Melbourne Cup
DESCRIPTION:Join us on Melbourne Cup day for our popular $12 lunch specials at The Kitchen from 11.30am to 3pm. \nSpecials – Rump Steak\, All Burgers\, All Salads\, Large Roast\, Chicken Schitty and Fish & Chips. \nClub opens 10am so make a day of it with your mates or get the work gang together to watch the big race and enjoy lunch. \nCall 94871066 to make a booking. \nBingo 11.30am \nTAB facilities available.
URL:https://magpieswaitara.com.au/event/melbourne-cup/
CATEGORIES:Special Events
ATTACH;FMTTYPE=image/jpeg:https://magpieswaitara.com.au/wp-content/uploads/2022/09/WAITARA_MelbourneCup2022_INSTA.jpg
END:VEVENT
END:VCALENDAR