BEGIN:VCALENDAR
VERSION:2.0
PRODID:-//Magpies Waitara - ECPv6.15.16.1//NONSGML v1.0//EN
CALSCALE:GREGORIAN
METHOD:PUBLISH
X-WR-CALNAME:Magpies Waitara
X-ORIGINAL-URL:https://magpieswaitara.com.au
X-WR-CALDESC:Events for Magpies Waitara
REFRESH-INTERVAL;VALUE=DURATION:PT1H
X-Robots-Tag:noindex
X-PUBLISHED-TTL:PT1H
BEGIN:VTIMEZONE
TZID:UTC
BEGIN:STANDARD
TZOFFSETFROM:+0000
TZOFFSETTO:+0000
TZNAME:UTC
DTSTART:20210101T000000
END:STANDARD
END:VTIMEZONE
BEGIN:VEVENT
DTSTART;VALUE=DATE:20221029
DTEND;VALUE=DATE:20221030
DTSTAMP:20260419T121659
CREATED:20220916T020027Z
LAST-MODIFIED:20220916T020027Z
UID:1713-1667001600-1667087999@magpieswaitara.com.au
SUMMARY:SHOCK DAZE
DESCRIPTION:SHOCK DAZE \nMembers Lounge \n7.30pm – 10.30pm
URL:https://magpieswaitara.com.au/event/shock-daze-2/
CATEGORIES:Entertainment
END:VEVENT
BEGIN:VEVENT
DTSTART;TZID=UTC:20221029T190000
DTEND;TZID=UTC:20221029T190000
DTSTAMP:20260419T121659
CREATED:20221024T005003Z
LAST-MODIFIED:20221024T005003Z
UID:1797-1667070000-1667070000@magpieswaitara.com.au
SUMMARY:Club Birthday Weekend
DESCRIPTION:Come join us in celebration for our Club Birthday! \nThere is lots to enjoy including the Club Birthday Raffle (over $3000 in prizes)\, Live entertainment on both days as well as dining specials. \n\nSaturday 29th \nRaffle: Tickets on sale from 6pm. Draw begins at 7pm \nLive Entertainment: Shock Daze – Members Lounge – From 7:30pm \n\nSunday 30th \nLive Entertainment: Geoff Power Jazz Band – Entertainment Lounge – 2pm
URL:https://magpieswaitara.com.au/event/club-birthday-weekend/2022-10-29/
CATEGORIES:Special Events
ATTACH;FMTTYPE=image/jpeg:https://magpieswaitara.com.au/wp-content/uploads/2022/10/WAITARA_ClubBirthday2022_FB.jpg
END:VEVENT
END:VCALENDAR